BEGIN:VCALENDAR
VERSION:2.0
PRODID:-//St Mary&#039;s Church Tickhill - ECPv6.15.20//NONSGML v1.0//EN
CALSCALE:GREGORIAN
METHOD:PUBLISH
X-WR-CALNAME:St Mary&#039;s Church Tickhill
X-ORIGINAL-URL:https://www.stmaryschurchtickhill.com
X-WR-CALDESC:Events for St Mary&#039;s Church Tickhill
REFRESH-INTERVAL;VALUE=DURATION:PT1H
X-Robots-Tag:noindex
X-PUBLISHED-TTL:PT1H
BEGIN:VTIMEZONE
TZID:Europe/London
BEGIN:DAYLIGHT
TZOFFSETFROM:+0000
TZOFFSETTO:+0100
TZNAME:BST
DTSTART:20240331T010000
END:DAYLIGHT
BEGIN:STANDARD
TZOFFSETFROM:+0100
TZOFFSETTO:+0000
TZNAME:GMT
DTSTART:20241027T010000
END:STANDARD
BEGIN:DAYLIGHT
TZOFFSETFROM:+0000
TZOFFSETTO:+0100
TZNAME:BST
DTSTART:20250330T010000
END:DAYLIGHT
BEGIN:STANDARD
TZOFFSETFROM:+0100
TZOFFSETTO:+0000
TZNAME:GMT
DTSTART:20251026T010000
END:STANDARD
BEGIN:DAYLIGHT
TZOFFSETFROM:+0000
TZOFFSETTO:+0100
TZNAME:BST
DTSTART:20260329T010000
END:DAYLIGHT
BEGIN:STANDARD
TZOFFSETFROM:+0100
TZOFFSETTO:+0000
TZNAME:GMT
DTSTART:20261025T010000
END:STANDARD
END:VTIMEZONE
BEGIN:VEVENT
DTSTART;TZID=Europe/London:20250309T180000
DTEND;TZID=Europe/London:20250309T190000
DTSTAMP:20260419T184543
CREATED:20250103T151717Z
LAST-MODIFIED:20250307T161142Z
UID:8083-1741543200-1741546800@www.stmaryschurchtickhill.com
SUMMARY:6.00 pm - Celtic Evening Prayer - St Mary's
DESCRIPTION:
URL:https://www.stmaryschurchtickhill.com/event/6-00-pm-evening-prayer-st-marys-11
LOCATION:St. Mary’s Church\, Tickhill\, St Mary's Church\, St Mary's Rd\, Tickhill\,\, Doncaster\, DN11 9LZ\, United Kingdom
END:VEVENT
BEGIN:VEVENT
DTSTART;TZID=Europe/London:20250309T103000
DTEND;TZID=Europe/London:20250309T120000
DTSTAMP:20260419T184543
CREATED:20250103T151057Z
LAST-MODIFIED:20250103T151057Z
UID:8065-1741516200-1741521600@www.stmaryschurchtickhill.com
SUMMARY:10.45 am – Sung Parish Eucharist – St Mary’s
DESCRIPTION:
URL:https://www.stmaryschurchtickhill.com/event/10-45-am-sung-parish-eucharist-st-marys-12
LOCATION:St. Mary’s Church\, Tickhill\, St Mary's Church\, St Mary's Rd\, Tickhill\,\, Doncaster\, DN11 9LZ\, United Kingdom
END:VEVENT
BEGIN:VEVENT
DTSTART;TZID=Europe/London:20250309T080000
DTEND;TZID=Europe/London:20250309T090000
DTSTAMP:20260419T184543
CREATED:20250103T153054Z
LAST-MODIFIED:20250103T153054Z
UID:8119-1741507200-1741510800@www.stmaryschurchtickhill.com
SUMMARY:8.00 am - Holy Communion - St Mary's
DESCRIPTION:
URL:https://www.stmaryschurchtickhill.com/event/8-00-am-holy-communion-st-marys-6
LOCATION:St. Mary’s Church\, Tickhill\, St Mary's Church\, St Mary's Rd\, Tickhill\,\, Doncaster\, DN11 9LZ\, United Kingdom
END:VEVENT
BEGIN:VEVENT
DTSTART;TZID=Europe/London:20250305T100000
DTEND;TZID=Europe/London:20250305T110000
DTSTAMP:20260419T184543
CREATED:20250103T152600Z
LAST-MODIFIED:20250103T153500Z
UID:8107-1741168800-1741172400@www.stmaryschurchtickhill.com
SUMMARY:10.00 am - Holy Communion - St Mary's
DESCRIPTION:
URL:https://www.stmaryschurchtickhill.com/event/10-00-am-holy-communion-st-marys-5
LOCATION:St. Mary’s Church\, Tickhill\, St Mary's Church\, St Mary's Rd\, Tickhill\,\, Doncaster\, DN11 9LZ\, United Kingdom
END:VEVENT
BEGIN:VEVENT
DTSTART;TZID=Europe/London:20250302T180000
DTEND;TZID=Europe/London:20250302T190000
DTSTAMP:20260419T184543
CREATED:20250103T151654Z
LAST-MODIFIED:20250103T151654Z
UID:8081-1740938400-1740942000@www.stmaryschurchtickhill.com
SUMMARY:6.00 pm - Evening Prayer - St Mary's
DESCRIPTION:
URL:https://www.stmaryschurchtickhill.com/event/6-00-pm-evening-prayer-st-marys-10
LOCATION:St. Mary’s Church\, Tickhill\, St Mary's Church\, St Mary's Rd\, Tickhill\,\, Doncaster\, DN11 9LZ\, United Kingdom
END:VEVENT
BEGIN:VEVENT
DTSTART;TZID=Europe/London:20250302T160000
DTEND;TZID=Europe/London:20250302T170000
DTSTAMP:20260419T184543
CREATED:20250103T152044Z
LAST-MODIFIED:20250103T152044Z
UID:8093-1740931200-1740934800@www.stmaryschurchtickhill.com
SUMMARY:4.00 pm - "Church Done Differently" - St Mary's
DESCRIPTION:
URL:https://www.stmaryschurchtickhill.com/event/4-00-pm-church-done-differently-st-marys-4
LOCATION:St. Mary’s Church\, Tickhill\, St Mary's Church\, St Mary's Rd\, Tickhill\,\, Doncaster\, DN11 9LZ\, United Kingdom
END:VEVENT
BEGIN:VEVENT
DTSTART;TZID=Europe/London:20250302T103000
DTEND;TZID=Europe/London:20250302T120000
DTSTAMP:20260419T184543
CREATED:20250103T151029Z
LAST-MODIFIED:20250103T151029Z
UID:8063-1740911400-1740916800@www.stmaryschurchtickhill.com
SUMMARY:10.45 am – Sung Parish Eucharist – St Mary’s
DESCRIPTION:
URL:https://www.stmaryschurchtickhill.com/event/10-45-am-sung-parish-eucharist-st-marys-11
LOCATION:St. Mary’s Church\, Tickhill\, St Mary's Church\, St Mary's Rd\, Tickhill\,\, Doncaster\, DN11 9LZ\, United Kingdom
END:VEVENT
BEGIN:VEVENT
DTSTART;TZID=Europe/London:20250302T090000
DTEND;TZID=Europe/London:20250302T100000
DTSTAMP:20260419T184543
CREATED:20250103T152203Z
LAST-MODIFIED:20250103T152203Z
UID:8097-1740906000-1740909600@www.stmaryschurchtickhill.com
SUMMARY:9.15 am - Monthly Service - St Winifrid's
DESCRIPTION:
URL:https://www.stmaryschurchtickhill.com/event/9-15-am-monthly-service-st-winifrids-2
LOCATION:St Winifrid’s Stainton
END:VEVENT
BEGIN:VEVENT
DTSTART;TZID=Europe/London:20250226T100000
DTEND;TZID=Europe/London:20250226T110000
DTSTAMP:20260419T184543
CREATED:20250103T152519Z
LAST-MODIFIED:20250103T152519Z
UID:8105-1740564000-1740567600@www.stmaryschurchtickhill.com
SUMMARY:10.00 am - Morning Prayer - St Mary's
DESCRIPTION:
URL:https://www.stmaryschurchtickhill.com/event/10-00-am-morning-prayer-st-marys-4
LOCATION:St. Mary’s Church\, Tickhill\, St Mary's Church\, St Mary's Rd\, Tickhill\,\, Doncaster\, DN11 9LZ\, United Kingdom
END:VEVENT
BEGIN:VEVENT
DTSTART;TZID=Europe/London:20250223T180000
DTEND;TZID=Europe/London:20250223T190000
DTSTAMP:20260419T184543
CREATED:20250103T151627Z
LAST-MODIFIED:20250217T212448Z
UID:8079-1740333600-1740337200@www.stmaryschurchtickhill.com
SUMMARY:6.00 pm - Evensong - St Mary's
DESCRIPTION:
URL:https://www.stmaryschurchtickhill.com/event/6-00-pm-evening-prayer-st-marys-9
LOCATION:St. Mary’s Church\, Tickhill\, St Mary's Church\, St Mary's Rd\, Tickhill\,\, Doncaster\, DN11 9LZ\, United Kingdom
END:VEVENT
BEGIN:VEVENT
DTSTART;TZID=Europe/London:20250223T103000
DTEND;TZID=Europe/London:20250223T120000
DTSTAMP:20260419T184543
CREATED:20250103T150959Z
LAST-MODIFIED:20250103T150959Z
UID:8061-1740306600-1740312000@www.stmaryschurchtickhill.com
SUMMARY:10.45 am – Sung Parish Eucharist – St Mary’s
DESCRIPTION:
URL:https://www.stmaryschurchtickhill.com/event/10-45-am-sung-parish-eucharist-st-marys-10
LOCATION:St. Mary’s Church\, Tickhill\, St Mary's Church\, St Mary's Rd\, Tickhill\,\, Doncaster\, DN11 9LZ\, United Kingdom
END:VEVENT
BEGIN:VEVENT
DTSTART;TZID=Europe/London:20250219T100000
DTEND;TZID=Europe/London:20250219T110000
DTSTAMP:20260419T184543
CREATED:20250103T152429Z
LAST-MODIFIED:20250103T152429Z
UID:8103-1739959200-1739962800@www.stmaryschurchtickhill.com
SUMMARY:10.00 am - Holy Communion - St Mary's
DESCRIPTION:
URL:https://www.stmaryschurchtickhill.com/event/10-00-am-holy-communion-st-marys-4
LOCATION:St. Mary’s Church\, Tickhill\, St Mary's Church\, St Mary's Rd\, Tickhill\,\, Doncaster\, DN11 9LZ\, United Kingdom
END:VEVENT
BEGIN:VEVENT
DTSTART;TZID=Europe/London:20250216T180000
DTEND;TZID=Europe/London:20250216T190000
DTSTAMP:20260419T184543
CREATED:20250103T151556Z
LAST-MODIFIED:20250103T151556Z
UID:8077-1739728800-1739732400@www.stmaryschurchtickhill.com
SUMMARY:6.00 pm - Holy Communion - St Mary's
DESCRIPTION:
URL:https://www.stmaryschurchtickhill.com/event/6-00-pm-holy-communion-st-marys-4
LOCATION:St. Mary’s Church\, Tickhill\, St Mary's Church\, St Mary's Rd\, Tickhill\,\, Doncaster\, DN11 9LZ\, United Kingdom
END:VEVENT
BEGIN:VEVENT
DTSTART;TZID=Europe/London:20250216T103000
DTEND;TZID=Europe/London:20250216T120000
DTSTAMP:20260419T184543
CREATED:20250103T150925Z
LAST-MODIFIED:20250207T202954Z
UID:8059-1739701800-1739707200@www.stmaryschurchtickhill.com
SUMMARY:10.45 am – Celtic Morning Prayer – St Mary’s
DESCRIPTION:
URL:https://www.stmaryschurchtickhill.com/event/10-45-am-morning-praise-st-marys-2
LOCATION:St. Mary’s Church\, Tickhill\, St Mary's Church\, St Mary's Rd\, Tickhill\,\, Doncaster\, DN11 9LZ\, United Kingdom
END:VEVENT
BEGIN:VEVENT
DTSTART;TZID=Europe/London:20250212T100000
DTEND;TZID=Europe/London:20250212T110000
DTSTAMP:20260419T184543
CREATED:20250103T152356Z
LAST-MODIFIED:20250103T153433Z
UID:8101-1739354400-1739358000@www.stmaryschurchtickhill.com
SUMMARY:10.00 am - Morning Prayer - St Mary's
DESCRIPTION:
URL:https://www.stmaryschurchtickhill.com/event/10-00-am-morning-prayer-st-marys-3
LOCATION:St. Mary’s Church\, Tickhill\, St Mary's Church\, St Mary's Rd\, Tickhill\,\, Doncaster\, DN11 9LZ\, United Kingdom
END:VEVENT
BEGIN:VEVENT
DTSTART;TZID=Europe/London:20250209T180000
DTEND;TZID=Europe/London:20250209T190000
DTSTAMP:20260419T184543
CREATED:20250103T151517Z
LAST-MODIFIED:20250131T203249Z
UID:8075-1739124000-1739127600@www.stmaryschurchtickhill.com
SUMMARY:6.00 pm - Celtic Evening Prayer - St Mary's
DESCRIPTION:
URL:https://www.stmaryschurchtickhill.com/event/6-00-pm-evening-prayer-st-marys-8
LOCATION:St. Mary’s Church\, Tickhill\, St Mary's Church\, St Mary's Rd\, Tickhill\,\, Doncaster\, DN11 9LZ\, United Kingdom
END:VEVENT
BEGIN:VEVENT
DTSTART;TZID=Europe/London:20250209T103000
DTEND;TZID=Europe/London:20250209T120000
DTSTAMP:20260419T184543
CREATED:20250103T150823Z
LAST-MODIFIED:20250103T150823Z
UID:8057-1739097000-1739102400@www.stmaryschurchtickhill.com
SUMMARY:10.45 am – Sung Parish Eucharist – St Mary’s
DESCRIPTION:
URL:https://www.stmaryschurchtickhill.com/event/10-45-am-sung-parish-eucharist-st-marys-9
LOCATION:St. Mary’s Church\, Tickhill\, St Mary's Church\, St Mary's Rd\, Tickhill\,\, Doncaster\, DN11 9LZ\, United Kingdom
END:VEVENT
BEGIN:VEVENT
DTSTART;TZID=Europe/London:20250209T080000
DTEND;TZID=Europe/London:20250209T090000
DTSTAMP:20260419T184543
CREATED:20250103T153024Z
LAST-MODIFIED:20250103T153024Z
UID:8117-1739088000-1739091600@www.stmaryschurchtickhill.com
SUMMARY:8.00 am - Holy Communion - St Mary's
DESCRIPTION:
URL:https://www.stmaryschurchtickhill.com/event/8-00-am-holy-communion-st-marys-5
LOCATION:St. Mary’s Church\, Tickhill\, St Mary's Church\, St Mary's Rd\, Tickhill\,\, Doncaster\, DN11 9LZ\, United Kingdom
END:VEVENT
BEGIN:VEVENT
DTSTART;TZID=Europe/London:20250205T100000
DTEND;TZID=Europe/London:20250205T110000
DTSTAMP:20260419T184543
CREATED:20250103T152310Z
LAST-MODIFIED:20250103T153358Z
UID:8099-1738749600-1738753200@www.stmaryschurchtickhill.com
SUMMARY:10.00 am - Holy Communion - St Mary's
DESCRIPTION:
URL:https://www.stmaryschurchtickhill.com/event/10-00-am-holy-communion-st-marys-3
LOCATION:St. Mary’s Church\, Tickhill\, St Mary's Church\, St Mary's Rd\, Tickhill\,\, Doncaster\, DN11 9LZ\, United Kingdom
END:VEVENT
BEGIN:VEVENT
DTSTART;TZID=Europe/London:20250202T180000
DTEND;TZID=Europe/London:20250202T190000
DTSTAMP:20260419T184543
CREATED:20250103T151447Z
LAST-MODIFIED:20250103T151447Z
UID:8073-1738519200-1738522800@www.stmaryschurchtickhill.com
SUMMARY:6.00 pm - Evening Prayer - St Mary's
DESCRIPTION:
URL:https://www.stmaryschurchtickhill.com/event/6-00-pm-evening-prayer-st-marys-7
LOCATION:St. Mary’s Church\, Tickhill\, St Mary's Church\, St Mary's Rd\, Tickhill\,\, Doncaster\, DN11 9LZ\, United Kingdom
END:VEVENT
BEGIN:VEVENT
DTSTART;TZID=Europe/London:20250202T160000
DTEND;TZID=Europe/London:20250202T170000
DTSTAMP:20260419T184543
CREATED:20250103T152021Z
LAST-MODIFIED:20250103T152021Z
UID:8091-1738512000-1738515600@www.stmaryschurchtickhill.com
SUMMARY:4.00 pm - "Church Done Differently" - St Mary's
DESCRIPTION:
URL:https://www.stmaryschurchtickhill.com/event/4-00-pm-church-done-differently-st-marys-3
LOCATION:St. Mary’s Church\, Tickhill\, St Mary's Church\, St Mary's Rd\, Tickhill\,\, Doncaster\, DN11 9LZ\, United Kingdom
END:VEVENT
BEGIN:VEVENT
DTSTART;TZID=Europe/London:20250202T103000
DTEND;TZID=Europe/London:20250202T120000
DTSTAMP:20260419T184543
CREATED:20250103T150752Z
LAST-MODIFIED:20250103T150752Z
UID:8055-1738492200-1738497600@www.stmaryschurchtickhill.com
SUMMARY:10.45 am – Sung Parish Eucharist – St Mary’s
DESCRIPTION:
URL:https://www.stmaryschurchtickhill.com/event/10-45-am-sung-parish-eucharist-st-marys-8
LOCATION:St. Mary’s Church\, Tickhill\, St Mary's Church\, St Mary's Rd\, Tickhill\,\, Doncaster\, DN11 9LZ\, United Kingdom
END:VEVENT
BEGIN:VEVENT
DTSTART;TZID=Europe/London:20250202T090000
DTEND;TZID=Europe/London:20250202T100000
DTSTAMP:20260419T184543
CREATED:20250103T152134Z
LAST-MODIFIED:20250103T152134Z
UID:8095-1738486800-1738490400@www.stmaryschurchtickhill.com
SUMMARY:9.15 am - Monthly Service - St Winifrid's
DESCRIPTION:
URL:https://www.stmaryschurchtickhill.com/event/9-15-am-monthly-service-st-winifrids
LOCATION:St Winifrid’s Stainton
END:VEVENT
BEGIN:VEVENT
DTSTART;TZID=Europe/London:20250201T100000
DTEND;TZID=Europe/London:20250201T170000
DTSTAMP:20260419T184543
CREATED:20241116T123244Z
LAST-MODIFIED:20241116T123244Z
UID:7892-1738404000-1738429200@www.stmaryschurchtickhill.com
SUMMARY:25th Anniversary Celebrations - Stainton Village Hall
DESCRIPTION:
URL:https://www.stmaryschurchtickhill.com/event/25th-anniversary-celebrations-stainton-village-hall
LOCATION:Stainton Village Hall\, 29 School Ln\, Stainton\,\, Rotherham\, RotherS66 7QX\, United Kingdom
END:VEVENT
BEGIN:VEVENT
DTSTART;TZID=Europe/London:20250129T100000
DTEND;TZID=Europe/London:20250129T110000
DTSTAMP:20260419T184543
CREATED:20241130T155443Z
LAST-MODIFIED:20241130T155443Z
UID:7966-1738144800-1738148400@www.stmaryschurchtickhill.com
SUMMARY:10.00 am - Holy Communion - St Mary's
DESCRIPTION:
URL:https://www.stmaryschurchtickhill.com/event/10-00-am-holy-communion-st-marys-2
LOCATION:St. Mary’s Church\, Tickhill\, St Mary's Church\, St Mary's Rd\, Tickhill\,\, Doncaster\, DN11 9LZ\, United Kingdom
END:VEVENT
BEGIN:VEVENT
DTSTART;TZID=Europe/London:20250126T180000
DTEND;TZID=Europe/London:20250126T190000
DTSTAMP:20260419T184543
CREATED:20241130T155011Z
LAST-MODIFIED:20250117T121307Z
UID:7954-1737914400-1737918000@www.stmaryschurchtickhill.com
SUMMARY:6.00 pm - Evensong - St Mary's
DESCRIPTION:
URL:https://www.stmaryschurchtickhill.com/event/6-00-pm-evening-prayer-st-marys-6
LOCATION:St. Mary’s Church\, Tickhill\, St Mary's Church\, St Mary's Rd\, Tickhill\,\, Doncaster\, DN11 9LZ\, United Kingdom
END:VEVENT
BEGIN:VEVENT
DTSTART;TZID=Europe/London:20250126T103000
DTEND;TZID=Europe/London:20250126T120000
DTSTAMP:20260419T184543
CREATED:20241130T154705Z
LAST-MODIFIED:20241130T154705Z
UID:7945-1737887400-1737892800@www.stmaryschurchtickhill.com
SUMMARY:10.45 am - Sung Parish Eucharist - St Mary's
DESCRIPTION:
URL:https://www.stmaryschurchtickhill.com/event/10-45-am-sung-parish-eucharist-st-marys-7
LOCATION:St. Mary’s Church\, Tickhill\, St Mary's Church\, St Mary's Rd\, Tickhill\,\, Doncaster\, DN11 9LZ\, United Kingdom
END:VEVENT
BEGIN:VEVENT
DTSTART;TZID=Europe/London:20250122T100000
DTEND;TZID=Europe/London:20250122T110000
DTSTAMP:20260419T184543
CREATED:20241130T155403Z
LAST-MODIFIED:20241130T155403Z
UID:7964-1737540000-1737543600@www.stmaryschurchtickhill.com
SUMMARY:10.00 am - Morning Prayer - St Mary's
DESCRIPTION:
URL:https://www.stmaryschurchtickhill.com/event/10-00-am-morning-prayer-st-marys-2
LOCATION:St. Mary’s Church\, Tickhill\, St Mary's Church\, St Mary's Rd\, Tickhill\,\, Doncaster\, DN11 9LZ\, United Kingdom
END:VEVENT
BEGIN:VEVENT
DTSTART;TZID=Europe/London:20250119T180000
DTEND;TZID=Europe/London:20250119T190000
DTSTAMP:20260419T184543
CREATED:20241130T154943Z
LAST-MODIFIED:20241130T154943Z
UID:7952-1737309600-1737313200@www.stmaryschurchtickhill.com
SUMMARY:6.00 pm - Holy Communion - St Mary's
DESCRIPTION:
URL:https://www.stmaryschurchtickhill.com/event/6-00-pm-holy-communion-st-marys-3
LOCATION:St. Mary’s Church\, Tickhill\, St Mary's Church\, St Mary's Rd\, Tickhill\,\, Doncaster\, DN11 9LZ\, United Kingdom
END:VEVENT
BEGIN:VEVENT
DTSTART;TZID=Europe/London:20250119T103000
DTEND;TZID=Europe/London:20250119T120000
DTSTAMP:20260419T184543
CREATED:20241130T154633Z
LAST-MODIFIED:20250112T163405Z
UID:7943-1737282600-1737288000@www.stmaryschurchtickhill.com
SUMMARY:10.30 am - Tickhill Churches Together - Joint Service at Tickhill Methodist Church
DESCRIPTION:
URL:https://www.stmaryschurchtickhill.com/event/10-45-am-sung-parish-eucharist-st-marys-6
LOCATION:Tickhill Methodist Church\, 8 Buttercross Ct\, Tickhill\,\, Doncaster\, DN11 9JX
END:VEVENT
END:VCALENDAR