BEGIN:VCALENDAR
VERSION:2.0
PRODID:-//St Mary&#039;s Church Tickhill - ECPv6.15.20//NONSGML v1.0//EN
CALSCALE:GREGORIAN
METHOD:PUBLISH
X-WR-CALNAME:St Mary&#039;s Church Tickhill
X-ORIGINAL-URL:https://www.stmaryschurchtickhill.com
X-WR-CALDESC:Events for St Mary&#039;s Church Tickhill
REFRESH-INTERVAL;VALUE=DURATION:PT1H
X-Robots-Tag:noindex
X-PUBLISHED-TTL:PT1H
BEGIN:VTIMEZONE
TZID:Europe/London
BEGIN:DAYLIGHT
TZOFFSETFROM:+0000
TZOFFSETTO:+0100
TZNAME:BST
DTSTART:20180325T010000
END:DAYLIGHT
BEGIN:STANDARD
TZOFFSETFROM:+0100
TZOFFSETTO:+0000
TZNAME:GMT
DTSTART:20181028T010000
END:STANDARD
BEGIN:DAYLIGHT
TZOFFSETFROM:+0000
TZOFFSETTO:+0100
TZNAME:BST
DTSTART:20190331T010000
END:DAYLIGHT
BEGIN:STANDARD
TZOFFSETFROM:+0100
TZOFFSETTO:+0000
TZNAME:GMT
DTSTART:20191027T010000
END:STANDARD
BEGIN:DAYLIGHT
TZOFFSETFROM:+0000
TZOFFSETTO:+0100
TZNAME:BST
DTSTART:20200329T010000
END:DAYLIGHT
BEGIN:STANDARD
TZOFFSETFROM:+0100
TZOFFSETTO:+0000
TZNAME:GMT
DTSTART:20201025T010000
END:STANDARD
END:VTIMEZONE
BEGIN:VEVENT
DTSTART;TZID=Europe/London:20190308T190000
DTEND;TZID=Europe/London:20190308T200000
DTSTAMP:20260425T125010
CREATED:20190221T114355Z
LAST-MODIFIED:20190221T114355Z
UID:1023-1552071600-1552075200@www.stmaryschurchtickhill.com
SUMMARY:7:00 PM Senior Choir Practice in St. Luke's Chapel
DESCRIPTION:
URL:https://www.stmaryschurchtickhill.com/event/700-pm-senior-choir-practice-in-st-lukes-chapel-2
LOCATION:St. Mary’s Church\, Tickhill\, St Mary's Church\, St Mary's Rd\, Tickhill\,\, Doncaster\, DN11 9LZ\, United Kingdom
END:VEVENT
BEGIN:VEVENT
DTSTART;TZID=Europe/London:20190308T180000
DTEND;TZID=Europe/London:20190308T190000
DTSTAMP:20260425T125010
CREATED:20190221T111103Z
LAST-MODIFIED:20190221T111103Z
UID:989-1552068000-1552071600@www.stmaryschurchtickhill.com
SUMMARY:6:00 PM Junior Choir Practice in St. Luke's Chapel
DESCRIPTION:
URL:https://www.stmaryschurchtickhill.com/event/600-pm-junior-choir-practice-in-st-lukes-chapel-2
LOCATION:St. Mary’s Church\, Tickhill\, St Mary's Church\, St Mary's Rd\, Tickhill\,\, Doncaster\, DN11 9LZ\, United Kingdom
END:VEVENT
BEGIN:VEVENT
DTSTART;TZID=Europe/London:20190308T120000
DTEND;TZID=Europe/London:20190308T130000
DTSTAMP:20260425T125010
CREATED:20190217T181022Z
LAST-MODIFIED:20190221T110338Z
UID:770-1552046400-1552050000@www.stmaryschurchtickhill.com
SUMMARY:12:00 PM Soup Lunch in the Parish Room
DESCRIPTION:Choice of three homemade soups and bread followed by a hot drink and something sweet to go with it. All for £5.00 \nEveryone welcome – bring your friends \nIn support of the Tower Appeal.
URL:https://www.stmaryschurchtickhill.com/event/12-pm-soup-lunch-in-the-parish-room-2
LOCATION:Parish Room\, Tickhill Parish Room\, Northgate\, Tickhill\, Doncaster\, DN11 9HZ\, United Kingdom
END:VEVENT
BEGIN:VEVENT
DTSTART;TZID=Europe/London:20190306T193000
DTEND;TZID=Europe/London:20190306T210000
DTSTAMP:20260425T125010
CREATED:20190217T175847Z
LAST-MODIFIED:20190225T115156Z
UID:764-1551900600-1551906000@www.stmaryschurchtickhill.com
SUMMARY:7:30 PM Lent Course - Methodist Church
DESCRIPTION:Six studies based on the Pilgrim Course ‘Commandments’ will begin in the Methodist Church at 7:30pm on Ash Wednesday
URL:https://www.stmaryschurchtickhill.com/event/bible-study
LOCATION:Tickhill Methodist Church\, 8 Buttercross Ct\, Tickhill\,\, Doncaster\, DN11 9JX
END:VEVENT
BEGIN:VEVENT
DTSTART;TZID=Europe/London:20190306T100000
DTEND;TZID=Europe/London:20190306T113000
DTSTAMP:20260425T125010
CREATED:20190215T144108Z
LAST-MODIFIED:20190301T145423Z
UID:503-1551866400-1551871800@www.stmaryschurchtickhill.com
SUMMARY:10:00 AM Holy Communion with Ashing
DESCRIPTION:
URL:https://www.stmaryschurchtickhill.com/event/1000-am-holy-communion-st-lukes-chapel-5
END:VEVENT
BEGIN:VEVENT
DTSTART;VALUE=DATE:20190306
DTEND;VALUE=DATE:20190307
DTSTAMP:20260425T125010
CREATED:20190214T201449Z
LAST-MODIFIED:20190301T144049Z
UID:392-1551830400-1551916799@www.stmaryschurchtickhill.com
SUMMARY:Ash Wednesday
DESCRIPTION:
URL:https://www.stmaryschurchtickhill.com/event/ash-wednesday
END:VEVENT
BEGIN:VEVENT
DTSTART;TZID=Europe/London:20190304T183000
DTEND;TZID=Europe/London:20190304T200000
DTSTAMP:20260425T125010
CREATED:20190225T114417Z
LAST-MODIFIED:20190225T114417Z
UID:1193-1551724200-1551729600@www.stmaryschurchtickhill.com
SUMMARY:6:30 PM Standing Committee - St. Luke's Chapel
DESCRIPTION:
URL:https://www.stmaryschurchtickhill.com/event/630-pm-standing-committee-st-lukes-chapel
LOCATION:St. Mary’s Church\, Tickhill\, St Mary's Church\, St Mary's Rd\, Tickhill\,\, Doncaster\, DN11 9LZ\, United Kingdom
END:VEVENT
BEGIN:VEVENT
DTSTART;TZID=Europe/London:20190303T180000
DTEND;TZID=Europe/London:20190303T193000
DTSTAMP:20260425T125010
CREATED:20190215T160436Z
LAST-MODIFIED:20190215T160617Z
UID:565-1551636000-1551641400@www.stmaryschurchtickhill.com
SUMMARY:6:00 PM Evensong
DESCRIPTION:
URL:https://www.stmaryschurchtickhill.com/event/600-pm-evensong-5
END:VEVENT
BEGIN:VEVENT
DTSTART;TZID=Europe/London:20190303T103000
DTEND;TZID=Europe/London:20190303T120000
DTSTAMP:20260425T125010
CREATED:20190215T145341Z
LAST-MODIFIED:20190215T155407Z
UID:513-1551609000-1551614400@www.stmaryschurchtickhill.com
SUMMARY:10:30 AM Family Communion with Baptisms
DESCRIPTION:
URL:https://www.stmaryschurchtickhill.com/event/1030-family-communion-with-baptisms-2
END:VEVENT
BEGIN:VEVENT
DTSTART;TZID=Europe/London:20190303T080000
DTEND;TZID=Europe/London:20190303T090000
DTSTAMP:20260425T125010
CREATED:20190215T152237Z
LAST-MODIFIED:20190215T152237Z
UID:544-1551600000-1551603600@www.stmaryschurchtickhill.com
SUMMARY:8:00 AM Holy Communion (BCP)\, St. Helen's Chapel
DESCRIPTION:
URL:https://www.stmaryschurchtickhill.com/event/800-am-holy-communion-bcp-st-helens-chapel-5
END:VEVENT
BEGIN:VEVENT
DTSTART;VALUE=DATE:20190303
DTEND;VALUE=DATE:20190304
DTSTAMP:20260425T125010
CREATED:20190214T205624Z
LAST-MODIFIED:20190214T205624Z
UID:413-1551571200-1551657599@www.stmaryschurchtickhill.com
SUMMARY:The Sunday next before Lent
DESCRIPTION:
URL:https://www.stmaryschurchtickhill.com/event/the-sunday-next-before-lent
END:VEVENT
BEGIN:VEVENT
DTSTART;TZID=Europe/London:20190302T100000
DTEND;TZID=Europe/London:20190302T120000
DTSTAMP:20260425T125010
CREATED:20190221T103616Z
LAST-MODIFIED:20190221T103616Z
UID:945-1551520800-1551528000@www.stmaryschurchtickhill.com
SUMMARY:10:00 Coffee served in the Parish Room
DESCRIPTION:
URL:https://www.stmaryschurchtickhill.com/event/1000-coffee-served-in-the-parish-room
LOCATION:Parish Room\, Tickhill Parish Room\, Northgate\, Tickhill\, Doncaster\, DN11 9HZ\, United Kingdom
END:VEVENT
BEGIN:VEVENT
DTSTART;TZID=Europe/London:20190301T190000
DTEND;TZID=Europe/London:20190301T200000
DTSTAMP:20260425T125010
CREATED:20190221T114317Z
LAST-MODIFIED:20190223T101407Z
UID:1021-1551466800-1551470400@www.stmaryschurchtickhill.com
SUMMARY:7:00 PM Stainer's Crucifixion Practice in Evangelical Church\, Sunderland Street
DESCRIPTION:
URL:https://www.stmaryschurchtickhill.com/event/700-pm-senior-choir-practice-in-st-lukes-chapel
LOCATION:St. Mary’s Church\, Tickhill\, St Mary's Church\, St Mary's Rd\, Tickhill\,\, Doncaster\, DN11 9LZ\, United Kingdom
END:VEVENT
BEGIN:VEVENT
DTSTART;TZID=Europe/London:20190301T180000
DTEND;TZID=Europe/London:20190301T190000
DTSTAMP:20260425T125010
CREATED:20190221T111026Z
LAST-MODIFIED:20190223T101204Z
UID:987-1551463200-1551466800@www.stmaryschurchtickhill.com
SUMMARY:6:00 PM Junior Choir Practice in Evangelical Church\, Sunderland Street
DESCRIPTION:
URL:https://www.stmaryschurchtickhill.com/event/600-pm-junior-choir-practice-in-st-lukes-chapel
LOCATION:St. Mary’s Church\, Tickhill\, St Mary's Church\, St Mary's Rd\, Tickhill\,\, Doncaster\, DN11 9LZ\, United Kingdom
END:VEVENT
BEGIN:VEVENT
DTSTART;TZID=Europe/London:20190301T141500
DTEND;TZID=Europe/London:20190301T151500
DTSTAMP:20260425T125010
CREATED:20190215T163711Z
LAST-MODIFIED:20190215T163822Z
UID:604-1551449700-1551453300@www.stmaryschurchtickhill.com
SUMMARY:2:15 PM Church Mice\, St. Luke's Chapel
DESCRIPTION:
URL:https://www.stmaryschurchtickhill.com/event/215-pm-church-mice-st-lukes-chapel
END:VEVENT
BEGIN:VEVENT
DTSTART;TZID=Europe/London:20190301T140000
DTEND;TZID=Europe/London:20190301T150000
DTSTAMP:20260425T125010
CREATED:20190213T132557Z
LAST-MODIFIED:20190221T110645Z
UID:374-1551448800-1551452400@www.stmaryschurchtickhill.com
SUMMARY:2:00 PM Women’s World Day of Prayer
DESCRIPTION:Women’s World Day of Prayer
URL:https://www.stmaryschurchtickhill.com/event/womens-world-day-of-prayer
LOCATION:Tickhill Methodist Church\, 8 Buttercross Ct\, Tickhill\,\, Doncaster\, DN11 9JX
END:VEVENT
BEGIN:VEVENT
DTSTART;TZID=Europe/London:20190227T100000
DTEND;TZID=Europe/London:20190227T120000
DTSTAMP:20260425T125010
CREATED:20190215T163404Z
LAST-MODIFIED:20190215T163404Z
UID:601-1551261600-1551268800@www.stmaryschurchtickhill.com
SUMMARY:10:00 AM Mother Teresa Knitting Group
DESCRIPTION:
URL:https://www.stmaryschurchtickhill.com/event/1000-am-mother-teresa-knitting-group
LOCATION:25a Sunderland Street\, DN11 9PT\, 25a Sunderland Street\, Tickhill\, DN11 9PT\, United Kingdom
END:VEVENT
BEGIN:VEVENT
DTSTART;TZID=Europe/London:20190227T100000
DTEND;TZID=Europe/London:20190227T113000
DTSTAMP:20260425T125010
CREATED:20190215T143928Z
LAST-MODIFIED:20190215T143928Z
UID:501-1551261600-1551267000@www.stmaryschurchtickhill.com
SUMMARY:10:00 AM Holy Communion\, St. Luke's Chapel
DESCRIPTION:
URL:https://www.stmaryschurchtickhill.com/event/1000-am-holy-communion-st-lukes-chapel-4
END:VEVENT
BEGIN:VEVENT
DTSTART;TZID=Europe/London:20190224T180000
DTEND;TZID=Europe/London:20190224T193000
DTSTAMP:20260425T125010
CREATED:20190215T160156Z
LAST-MODIFIED:20190215T160156Z
UID:563-1551031200-1551036600@www.stmaryschurchtickhill.com
SUMMARY:6:00 PM Evensong
DESCRIPTION:
URL:https://www.stmaryschurchtickhill.com/event/600-pm-evensong-4
END:VEVENT
BEGIN:VEVENT
DTSTART;TZID=Europe/London:20190224T103000
DTEND;TZID=Europe/London:20190224T120000
DTSTAMP:20260425T125010
CREATED:20190215T161545Z
LAST-MODIFIED:20190215T161545Z
UID:586-1551004200-1551009600@www.stmaryschurchtickhill.com
SUMMARY:10:30 AM Sung Parish Eucharist
DESCRIPTION:
URL:https://www.stmaryschurchtickhill.com/event/1030-am-sung-parish-eucharist-2
END:VEVENT
BEGIN:VEVENT
DTSTART;TZID=Europe/London:20190224T080000
DTEND;TZID=Europe/London:20190224T090000
DTSTAMP:20260425T125010
CREATED:20190215T152153Z
LAST-MODIFIED:20190215T152153Z
UID:542-1550995200-1550998800@www.stmaryschurchtickhill.com
SUMMARY:8:00 AM Holy Communion (BCP)\, St. Helen's Chapel
DESCRIPTION:
URL:https://www.stmaryschurchtickhill.com/event/800-am-holy-communion-bcp-st-helens-chapel-4
END:VEVENT
BEGIN:VEVENT
DTSTART;VALUE=DATE:20190224
DTEND;VALUE=DATE:20190225
DTSTAMP:20260425T125010
CREATED:20190214T205502Z
LAST-MODIFIED:20190214T205502Z
UID:411-1550966400-1551052799@www.stmaryschurchtickhill.com
SUMMARY:The Second Sunday before Lent
DESCRIPTION:
URL:https://www.stmaryschurchtickhill.com/event/the-second-sunday-before-lent
END:VEVENT
BEGIN:VEVENT
DTSTART;TZID=Europe/London:20190222T120000
DTEND;TZID=Europe/London:20190222T130000
DTSTAMP:20260425T125010
CREATED:20190217T180719Z
LAST-MODIFIED:20190221T110251Z
UID:767-1550836800-1550840400@www.stmaryschurchtickhill.com
SUMMARY:12:00 PM Soup Lunch in the Parish Room
DESCRIPTION:Choice of three homemade soups and bread followed by a hot drink and something sweet to go with it.  All for £5.00 \nEveryone welcome – bring your friends \nIn support of the Tower Appeal.
URL:https://www.stmaryschurchtickhill.com/event/12-pm-soup-lunch-in-the-parish-room
LOCATION:Parish Room\, Tickhill Parish Room\, Northgate\, Tickhill\, Doncaster\, DN11 9HZ\, United Kingdom
END:VEVENT
BEGIN:VEVENT
DTSTART;TZID=Europe/London:20190220T100000
DTEND;TZID=Europe/London:20190220T233000
DTSTAMP:20260425T125010
CREATED:20190215T143747Z
LAST-MODIFIED:20190215T143747Z
UID:499-1550656800-1550705400@www.stmaryschurchtickhill.com
SUMMARY:10:00 AM Holy Communion\, St. Luke's Chapel
DESCRIPTION:
URL:https://www.stmaryschurchtickhill.com/event/1000-am-holy-communion-st-lukes-chapel-3
END:VEVENT
BEGIN:VEVENT
DTSTART;TZID=Europe/London:20190217T180000
DTEND;TZID=Europe/London:20190217T193000
DTSTAMP:20260425T125010
CREATED:20190215T154848Z
LAST-MODIFIED:20190215T154848Z
UID:554-1550426400-1550431800@www.stmaryschurchtickhill.com
SUMMARY:6:00 PM Evensong
DESCRIPTION:
URL:https://www.stmaryschurchtickhill.com/event/600-pm-evensong
END:VEVENT
BEGIN:VEVENT
DTSTART;TZID=Europe/London:20190217T103000
DTEND;TZID=Europe/London:20190217T123000
DTSTAMP:20260425T125010
CREATED:20190214T141931Z
LAST-MODIFIED:20190215T155143Z
UID:383-1550399400-1550406600@www.stmaryschurchtickhill.com
SUMMARY:10:30 AM Sung Parish Eucharist
DESCRIPTION:
URL:https://www.stmaryschurchtickhill.com/event/sung-parish-eucharist
LOCATION:St. Mary’s Church\, Tickhill\, St Mary's Church\, St Mary's Rd\, Tickhill\,\, Doncaster\, DN11 9LZ\, United Kingdom
END:VEVENT
BEGIN:VEVENT
DTSTART;TZID=Europe/London:20190217T080000
DTEND;TZID=Europe/London:20190217T090000
DTSTAMP:20260425T125010
CREATED:20190215T151808Z
LAST-MODIFIED:20190215T151944Z
UID:535-1550390400-1550394000@www.stmaryschurchtickhill.com
SUMMARY:8:00 AM Holy Communion (BCP)\, St. Helen's Chapel
DESCRIPTION:
URL:https://www.stmaryschurchtickhill.com/event/800-am-holy-communion-bcp-st-helens-chapel
END:VEVENT
BEGIN:VEVENT
DTSTART;VALUE=DATE:20190217
DTEND;VALUE=DATE:20190218
DTSTAMP:20260425T125010
CREATED:20190214T204645Z
LAST-MODIFIED:20190214T204645Z
UID:406-1550361600-1550447999@www.stmaryschurchtickhill.com
SUMMARY:The Third Sunday before Lent
DESCRIPTION:
URL:https://www.stmaryschurchtickhill.com/event/the-third-sunday-before-lent
END:VEVENT
BEGIN:VEVENT
DTSTART;TZID=Europe/London:20190213T100000
DTEND;TZID=Europe/London:20190213T113000
DTSTAMP:20260425T125010
CREATED:20190215T143327Z
LAST-MODIFIED:20190215T143327Z
UID:497-1550052000-1550057400@www.stmaryschurchtickhill.com
SUMMARY:10:00 AM Holy Communion\, St. Luke's Chapel
DESCRIPTION:
URL:https://www.stmaryschurchtickhill.com/event/1000-am-holy-communion-st-lukes-chapel-2
END:VEVENT
BEGIN:VEVENT
DTSTART;TZID=Europe/London:20190210T180000
DTEND;TZID=Europe/London:20190210T193000
DTSTAMP:20260425T125010
CREATED:20190215T160047Z
LAST-MODIFIED:20190215T160047Z
UID:561-1549821600-1549827000@www.stmaryschurchtickhill.com
SUMMARY:6:00 PM Evensong
DESCRIPTION:
URL:https://www.stmaryschurchtickhill.com/event/600-pm-evensong-3
END:VEVENT
END:VCALENDAR