BEGIN:VCALENDAR
VERSION:2.0
PRODID:-//St Mary&#039;s Church Tickhill - ECPv6.15.20//NONSGML v1.0//EN
CALSCALE:GREGORIAN
METHOD:PUBLISH
X-WR-CALNAME:St Mary&#039;s Church Tickhill
X-ORIGINAL-URL:https://www.stmaryschurchtickhill.com
X-WR-CALDESC:Events for St Mary&#039;s Church Tickhill
REFRESH-INTERVAL;VALUE=DURATION:PT1H
X-Robots-Tag:noindex
X-PUBLISHED-TTL:PT1H
BEGIN:VTIMEZONE
TZID:Europe/London
BEGIN:DAYLIGHT
TZOFFSETFROM:+0000
TZOFFSETTO:+0100
TZNAME:BST
DTSTART:20180325T010000
END:DAYLIGHT
BEGIN:STANDARD
TZOFFSETFROM:+0100
TZOFFSETTO:+0000
TZNAME:GMT
DTSTART:20181028T010000
END:STANDARD
BEGIN:DAYLIGHT
TZOFFSETFROM:+0000
TZOFFSETTO:+0100
TZNAME:BST
DTSTART:20190331T010000
END:DAYLIGHT
BEGIN:STANDARD
TZOFFSETFROM:+0100
TZOFFSETTO:+0000
TZNAME:GMT
DTSTART:20191027T010000
END:STANDARD
BEGIN:DAYLIGHT
TZOFFSETFROM:+0000
TZOFFSETTO:+0100
TZNAME:BST
DTSTART:20200329T010000
END:DAYLIGHT
BEGIN:STANDARD
TZOFFSETFROM:+0100
TZOFFSETTO:+0000
TZNAME:GMT
DTSTART:20201025T010000
END:STANDARD
END:VTIMEZONE
BEGIN:VEVENT
DTSTART;TZID=Europe/London:20190217T080000
DTEND;TZID=Europe/London:20190217T090000
DTSTAMP:20260425T171713
CREATED:20190215T151808Z
LAST-MODIFIED:20190215T151944Z
UID:535-1550390400-1550394000@www.stmaryschurchtickhill.com
SUMMARY:8:00 AM Holy Communion (BCP)\, St. Helen's Chapel
DESCRIPTION:
URL:https://www.stmaryschurchtickhill.com/event/800-am-holy-communion-bcp-st-helens-chapel
END:VEVENT
BEGIN:VEVENT
DTSTART;VALUE=DATE:20190217
DTEND;VALUE=DATE:20190218
DTSTAMP:20260425T171713
CREATED:20190214T204645Z
LAST-MODIFIED:20190214T204645Z
UID:406-1550361600-1550447999@www.stmaryschurchtickhill.com
SUMMARY:The Third Sunday before Lent
DESCRIPTION:
URL:https://www.stmaryschurchtickhill.com/event/the-third-sunday-before-lent
END:VEVENT
BEGIN:VEVENT
DTSTART;TZID=Europe/London:20190213T100000
DTEND;TZID=Europe/London:20190213T113000
DTSTAMP:20260425T171713
CREATED:20190215T143327Z
LAST-MODIFIED:20190215T143327Z
UID:497-1550052000-1550057400@www.stmaryschurchtickhill.com
SUMMARY:10:00 AM Holy Communion\, St. Luke's Chapel
DESCRIPTION:
URL:https://www.stmaryschurchtickhill.com/event/1000-am-holy-communion-st-lukes-chapel-2
END:VEVENT
BEGIN:VEVENT
DTSTART;TZID=Europe/London:20190210T180000
DTEND;TZID=Europe/London:20190210T193000
DTSTAMP:20260425T171713
CREATED:20190215T160047Z
LAST-MODIFIED:20190215T160047Z
UID:561-1549821600-1549827000@www.stmaryschurchtickhill.com
SUMMARY:6:00 PM Evensong
DESCRIPTION:
URL:https://www.stmaryschurchtickhill.com/event/600-pm-evensong-3
END:VEVENT
BEGIN:VEVENT
DTSTART;TZID=Europe/London:20190210T103000
DTEND;TZID=Europe/London:20190210T120000
DTSTAMP:20260425T171713
CREATED:20190215T161506Z
LAST-MODIFIED:20190215T161506Z
UID:584-1549794600-1549800000@www.stmaryschurchtickhill.com
SUMMARY:10:30 AM Sung Parish Eucharist
DESCRIPTION:
URL:https://www.stmaryschurchtickhill.com/event/1030-am-sung-parish-eucharist
END:VEVENT
BEGIN:VEVENT
DTSTART;TZID=Europe/London:20190210T080000
DTEND;TZID=Europe/London:20190210T090000
DTSTAMP:20260425T171713
CREATED:20190215T152059Z
LAST-MODIFIED:20190215T152059Z
UID:540-1549785600-1549789200@www.stmaryschurchtickhill.com
SUMMARY:8:00 AM Holy Communion (BCP)\, St. Helen's Chapel
DESCRIPTION:
URL:https://www.stmaryschurchtickhill.com/event/800-am-holy-communion-bcp-st-helens-chapel-3
END:VEVENT
BEGIN:VEVENT
DTSTART;VALUE=DATE:20190210
DTEND;VALUE=DATE:20190211
DTSTAMP:20260425T171713
CREATED:20190214T204547Z
LAST-MODIFIED:20190214T204547Z
UID:404-1549756800-1549843199@www.stmaryschurchtickhill.com
SUMMARY:The Fourth Sunday before Lent
DESCRIPTION:
URL:https://www.stmaryschurchtickhill.com/event/the-fourth-sunday-before-lent
END:VEVENT
BEGIN:VEVENT
DTSTART;TZID=Europe/London:20190206T100000
DTEND;TZID=Europe/London:20190206T113000
DTSTAMP:20260425T171713
CREATED:20190215T142950Z
LAST-MODIFIED:20190215T143204Z
UID:493-1549447200-1549452600@www.stmaryschurchtickhill.com
SUMMARY:10:00 AM Holy Communion\, St. Luke's Chapel
DESCRIPTION:
URL:https://www.stmaryschurchtickhill.com/event/1000-am-holy-communion-st-lukes-chapel
END:VEVENT
BEGIN:VEVENT
DTSTART;TZID=Europe/London:20190203T180000
DTEND;TZID=Europe/London:20190203T193000
DTSTAMP:20260425T171713
CREATED:20190215T155910Z
LAST-MODIFIED:20190215T155910Z
UID:559-1549216800-1549222200@www.stmaryschurchtickhill.com
SUMMARY:6:00 PM Evensong
DESCRIPTION:
URL:https://www.stmaryschurchtickhill.com/event/600-pm-evensong-2
END:VEVENT
BEGIN:VEVENT
DTSTART;TZID=Europe/London:20190203T103000
DTEND;TZID=Europe/London:20190203T120000
DTSTAMP:20260425T171713
CREATED:20190215T145251Z
LAST-MODIFIED:20190215T155248Z
UID:511-1549189800-1549195200@www.stmaryschurchtickhill.com
SUMMARY:10:30 AM Family Communion with Baptisms
DESCRIPTION:
URL:https://www.stmaryschurchtickhill.com/event/1030-family-communion-with-baptisms
END:VEVENT
BEGIN:VEVENT
DTSTART;TZID=Europe/London:20190203T080000
DTEND;TZID=Europe/London:20190203T090000
DTSTAMP:20260425T171713
CREATED:20190215T152029Z
LAST-MODIFIED:20190215T152029Z
UID:538-1549180800-1549184400@www.stmaryschurchtickhill.com
SUMMARY:8:00 AM Holy Communion (BCP)\, St. Helen's Chapel
DESCRIPTION:
URL:https://www.stmaryschurchtickhill.com/event/800-am-holy-communion-bcp-st-helens-chapel-2
END:VEVENT
BEGIN:VEVENT
DTSTART;VALUE=DATE:20190203
DTEND;VALUE=DATE:20190204
DTSTAMP:20260425T171713
CREATED:20190214T204117Z
LAST-MODIFIED:20190214T205803Z
UID:402-1549152000-1549238399@www.stmaryschurchtickhill.com
SUMMARY:The Fifth Sunday Before Lent - Candlemas
DESCRIPTION:
URL:https://www.stmaryschurchtickhill.com/event/the-fifth-sunday-before-lent
END:VEVENT
BEGIN:VEVENT
DTSTART;VALUE=DATE:20190203
DTEND;VALUE=DATE:20190204
DTSTAMP:20260425T171713
CREATED:20190214T203932Z
LAST-MODIFIED:20190214T203932Z
UID:398-1549152000-1549238399@www.stmaryschurchtickhill.com
SUMMARY:The Presentation of Christ in The Temple
DESCRIPTION:
URL:https://www.stmaryschurchtickhill.com/event/the-presentation-of-christ-in-the-temple
END:VEVENT
END:VCALENDAR