BEGIN:VCALENDAR
VERSION:2.0
PRODID:-//St Mary&#039;s Church Tickhill - ECPv6.15.20//NONSGML v1.0//EN
CALSCALE:GREGORIAN
METHOD:PUBLISH
X-WR-CALNAME:St Mary&#039;s Church Tickhill
X-ORIGINAL-URL:https://www.stmaryschurchtickhill.com
X-WR-CALDESC:Events for St Mary&#039;s Church Tickhill
REFRESH-INTERVAL;VALUE=DURATION:PT1H
X-Robots-Tag:noindex
X-PUBLISHED-TTL:PT1H
BEGIN:VTIMEZONE
TZID:Europe/London
BEGIN:DAYLIGHT
TZOFFSETFROM:+0000
TZOFFSETTO:+0100
TZNAME:BST
DTSTART:20230326T010000
END:DAYLIGHT
BEGIN:STANDARD
TZOFFSETFROM:+0100
TZOFFSETTO:+0000
TZNAME:GMT
DTSTART:20231029T010000
END:STANDARD
BEGIN:DAYLIGHT
TZOFFSETFROM:+0000
TZOFFSETTO:+0100
TZNAME:BST
DTSTART:20240331T010000
END:DAYLIGHT
BEGIN:STANDARD
TZOFFSETFROM:+0100
TZOFFSETTO:+0000
TZNAME:GMT
DTSTART:20241027T010000
END:STANDARD
BEGIN:DAYLIGHT
TZOFFSETFROM:+0000
TZOFFSETTO:+0100
TZNAME:BST
DTSTART:20250330T010000
END:DAYLIGHT
BEGIN:STANDARD
TZOFFSETFROM:+0100
TZOFFSETTO:+0000
TZNAME:GMT
DTSTART:20251026T010000
END:STANDARD
END:VTIMEZONE
BEGIN:VEVENT
DTSTART;TZID=Europe/London:20241208T180000
DTEND;TZID=Europe/London:20241208T190000
DTSTAMP:20260419T214555
CREATED:20241012T174723Z
LAST-MODIFIED:20241130T154440Z
UID:7623-1733680800-1733684400@www.stmaryschurchtickhill.com
SUMMARY:6.00pm - United Advent Service - at Tickhill Methodist Church
DESCRIPTION:
URL:https://www.stmaryschurchtickhill.com/event/6-00pm-evening-prayer-st-marys-59
LOCATION:Tickhill Methodist Church\, 8 Buttercross Ct\, Tickhill\,\, Doncaster\, DN11 9JX
END:VEVENT
BEGIN:VEVENT
DTSTART;TZID=Europe/London:20241208T103000
DTEND;TZID=Europe/London:20241208T120000
DTSTAMP:20260419T214555
CREATED:20241012T174030Z
LAST-MODIFIED:20241122T094251Z
UID:7605-1733653800-1733659200@www.stmaryschurchtickhill.com
SUMMARY:10.45am  - Sung Parish Eucharist - Salvation Army Christmas Present Appeal - St Mary's
DESCRIPTION:
URL:https://www.stmaryschurchtickhill.com/event/10-45am-sung-parish-eucharist-st-marys-16
LOCATION:St. Mary’s Church\, Tickhill\, St Mary's Church\, St Mary's Rd\, Tickhill\,\, Doncaster\, DN11 9LZ\, United Kingdom
END:VEVENT
BEGIN:VEVENT
DTSTART;TZID=Europe/London:20241208T080000
DTEND;TZID=Europe/London:20241208T170000
DTSTAMP:20260419T214555
CREATED:20241116T122608Z
LAST-MODIFIED:20241116T122608Z
UID:7880-1733644800-1733677200@www.stmaryschurchtickhill.com
SUMMARY:Wreath Making in Stainton Village Hall
DESCRIPTION:
URL:https://www.stmaryschurchtickhill.com/event/wreath-making-in-stainton-village-hall
LOCATION:Stainton Village Hall\, 29 School Ln\, Stainton\,\, Rotherham\, RotherS66 7QX\, United Kingdom
END:VEVENT
BEGIN:VEVENT
DTSTART;TZID=Europe/London:20241208T080000
DTEND;TZID=Europe/London:20241208T090000
DTSTAMP:20260419T214555
CREATED:20241012T173549Z
LAST-MODIFIED:20241012T173549Z
UID:7593-1733644800-1733648400@www.stmaryschurchtickhill.com
SUMMARY:8.00 - Holy Communion - St Mary's
DESCRIPTION:
URL:https://www.stmaryschurchtickhill.com/event/8-00-holy-communion-st-marys-2
LOCATION:St. Mary’s Church\, Tickhill\, St Mary's Church\, St Mary's Rd\, Tickhill\,\, Doncaster\, DN11 9LZ\, United Kingdom
END:VEVENT
BEGIN:VEVENT
DTSTART;TZID=Europe/London:20241207T160000
DTEND;TZID=Europe/London:20241207T173000
DTSTAMP:20260419T214555
CREATED:20241116T122249Z
LAST-MODIFIED:20241116T122249Z
UID:7878-1733587200-1733592600@www.stmaryschurchtickhill.com
SUMMARY:4.00pm - Rotherham Youth Choir Concert - St Winifrid's
DESCRIPTION:
URL:https://www.stmaryschurchtickhill.com/event/4-00pm-rotherham-youth-choir-concert-st-winifrids
LOCATION:St Winifrid’s Stainton
END:VEVENT
BEGIN:VEVENT
DTSTART;TZID=Europe/London:20241204T100000
DTEND;TZID=Europe/London:20241204T103000
DTSTAMP:20260419T214555
CREATED:20241012T180602Z
LAST-MODIFIED:20241130T153149Z
UID:7654-1733306400-1733308200@www.stmaryschurchtickhill.com
SUMMARY:10.00am - Holy Communion - St Mary's
DESCRIPTION:
URL:https://www.stmaryschurchtickhill.com/event/10-00am-morning-prayer-st-marys-18
LOCATION:St. Mary’s Church\, Tickhill\, St Mary's Church\, St Mary's Rd\, Tickhill\,\, Doncaster\, DN11 9LZ\, United Kingdom
END:VEVENT
BEGIN:VEVENT
DTSTART;TZID=Europe/London:20241201T180000
DTEND;TZID=Europe/London:20241201T190000
DTSTAMP:20260419T214555
CREATED:20241012T174647Z
LAST-MODIFIED:20241012T175651Z
UID:7621-1733076000-1733079600@www.stmaryschurchtickhill.com
SUMMARY:6.00pm - Advent Carol Service - St Mary's
DESCRIPTION:
URL:https://www.stmaryschurchtickhill.com/event/6-00pm-advent-carol-service-st-marys
LOCATION:St. Mary’s Church\, Tickhill\, St Mary's Church\, St Mary's Rd\, Tickhill\,\, Doncaster\, DN11 9LZ\, United Kingdom
END:VEVENT
BEGIN:VEVENT
DTSTART;TZID=Europe/London:20241201T160000
DTEND;TZID=Europe/London:20241201T170000
DTSTAMP:20260419T214555
CREATED:20241012T175112Z
LAST-MODIFIED:20241012T175112Z
UID:7634-1733068800-1733072400@www.stmaryschurchtickhill.com
SUMMARY:4.00pm - Church Done Differently - Christingle - St Mary's
DESCRIPTION:
URL:https://www.stmaryschurchtickhill.com/event/4-00pm-church-done-differently-christingle-st-marys
LOCATION:St. Mary’s Church\, Tickhill\, St Mary's Church\, St Mary's Rd\, Tickhill\,\, Doncaster\, DN11 9LZ\, United Kingdom
END:VEVENT
BEGIN:VEVENT
DTSTART;TZID=Europe/London:20241201T103000
DTEND;TZID=Europe/London:20241201T120000
DTSTAMP:20260419T214555
CREATED:20241012T173954Z
LAST-MODIFIED:20241012T173954Z
UID:7603-1733049000-1733054400@www.stmaryschurchtickhill.com
SUMMARY:10.45am  - Sung Parish Eucharist - St Mary's
DESCRIPTION:
URL:https://www.stmaryschurchtickhill.com/event/10-45am-sung-parish-eucharist-st-marys-15
LOCATION:St. Mary’s Church\, Tickhill\, St Mary's Church\, St Mary's Rd\, Tickhill\,\, Doncaster\, DN11 9LZ\, United Kingdom
END:VEVENT
BEGIN:VEVENT
DTSTART;TZID=Europe/London:20241201T090000
DTEND;TZID=Europe/London:20241201T100000
DTSTAMP:20260419T214555
CREATED:20241012T175301Z
LAST-MODIFIED:20241012T175301Z
UID:7638-1733043600-1733047200@www.stmaryschurchtickhill.com
SUMMARY:9.15am  - Monthly Morning Service - St Winifrid's
DESCRIPTION:
URL:https://www.stmaryschurchtickhill.com/event/9-15am-monthly-morning-service-st-winifrids-2
LOCATION:St Winifrid’s Stainton
END:VEVENT
BEGIN:VEVENT
DTSTART;TZID=Europe/London:20241128T180000
DTEND;TZID=Europe/London:20241128T190000
DTSTAMP:20260419T214555
CREATED:20241122T094623Z
LAST-MODIFIED:20241122T094623Z
UID:7907-1732816800-1732820400@www.stmaryschurchtickhill.com
SUMMARY:6.00pm - Late Night Opening - singing and refreshments in church
DESCRIPTION:
URL:https://www.stmaryschurchtickhill.com/event/6-00pm-late-night-opening-singing-and-refreshments-in-church
LOCATION:St. Mary’s Church\, Tickhill\, St Mary's Church\, St Mary's Rd\, Tickhill\,\, Doncaster\, DN11 9LZ\, United Kingdom
END:VEVENT
BEGIN:VEVENT
DTSTART;TZID=Europe/London:20241127T100000
DTEND;TZID=Europe/London:20241127T103000
DTSTAMP:20260419T214555
CREATED:20241012T180534Z
LAST-MODIFIED:20241012T180534Z
UID:7652-1732701600-1732703400@www.stmaryschurchtickhill.com
SUMMARY:10.00am - Holy Communion - St Mary's
DESCRIPTION:
URL:https://www.stmaryschurchtickhill.com/event/10-00am-holy-communion-st-marys-55
LOCATION:St. Mary’s Church\, Tickhill\, St Mary's Church\, St Mary's Rd\, Tickhill\,\, Doncaster\, DN11 9LZ\, United Kingdom
END:VEVENT
BEGIN:VEVENT
DTSTART;TZID=Europe/London:20241124T180000
DTEND;TZID=Europe/London:20241124T190000
DTSTAMP:20260419T214555
CREATED:20241012T174550Z
LAST-MODIFIED:20241116T122026Z
UID:7619-1732471200-1732474800@www.stmaryschurchtickhill.com
SUMMARY:6.00pm - Praise and Worship - St Mary's
DESCRIPTION:
URL:https://www.stmaryschurchtickhill.com/event/6-00pm-evening-prayer-st-marys-58
LOCATION:St. Mary’s Church\, Tickhill\, St Mary's Church\, St Mary's Rd\, Tickhill\,\, Doncaster\, DN11 9LZ\, United Kingdom
END:VEVENT
BEGIN:VEVENT
DTSTART;TZID=Europe/London:20241124T103000
DTEND;TZID=Europe/London:20241124T120000
DTSTAMP:20260419T214555
CREATED:20241012T173912Z
LAST-MODIFIED:20241012T173912Z
UID:7601-1732444200-1732449600@www.stmaryschurchtickhill.com
SUMMARY:10.45am  - Sung Parish Eucharist - St Mary's
DESCRIPTION:
URL:https://www.stmaryschurchtickhill.com/event/10-45am-sung-parish-eucharist-st-marys-14
LOCATION:St. Mary’s Church\, Tickhill\, St Mary's Church\, St Mary's Rd\, Tickhill\,\, Doncaster\, DN11 9LZ\, United Kingdom
END:VEVENT
BEGIN:VEVENT
DTSTART;TZID=Europe/London:20241120T100000
DTEND;TZID=Europe/London:20241120T103000
DTSTAMP:20260419T214555
CREATED:20241012T180457Z
LAST-MODIFIED:20241012T180457Z
UID:7650-1732096800-1732098600@www.stmaryschurchtickhill.com
SUMMARY:10.00am - Morning Prayer - St Mary's
DESCRIPTION:
URL:https://www.stmaryschurchtickhill.com/event/10-00am-morning-prayer-st-marys-17
LOCATION:St. Mary’s Church\, Tickhill\, St Mary's Church\, St Mary's Rd\, Tickhill\,\, Doncaster\, DN11 9LZ\, United Kingdom
END:VEVENT
BEGIN:VEVENT
DTSTART;TZID=Europe/London:20241117T180000
DTEND;TZID=Europe/London:20241117T190000
DTSTAMP:20260419T214555
CREATED:20241012T174521Z
LAST-MODIFIED:20241012T174521Z
UID:7617-1731866400-1731870000@www.stmaryschurchtickhill.com
SUMMARY:6.00pm - Holy Communion - St Mary's
DESCRIPTION:
URL:https://www.stmaryschurchtickhill.com/event/6-00pm-holy-communion-st-marys-13
LOCATION:St. Mary’s Church\, Tickhill\, St Mary's Church\, St Mary's Rd\, Tickhill\,\, Doncaster\, DN11 9LZ\, United Kingdom
END:VEVENT
BEGIN:VEVENT
DTSTART;TZID=Europe/London:20241117T103000
DTEND;TZID=Europe/London:20241117T120000
DTSTAMP:20260419T214555
CREATED:20241012T173826Z
LAST-MODIFIED:20241012T173826Z
UID:7599-1731839400-1731844800@www.stmaryschurchtickhill.com
SUMMARY:10.45am  - Celtic Morning Prayer - St Mary's
DESCRIPTION:
URL:https://www.stmaryschurchtickhill.com/event/10-45am-celtic-morning-prayer-st-marys
LOCATION:St. Mary’s Church\, Tickhill\, St Mary's Church\, St Mary's Rd\, Tickhill\,\, Doncaster\, DN11 9LZ\, United Kingdom
END:VEVENT
BEGIN:VEVENT
DTSTART;TZID=Europe/London:20241116T100000
DTEND;TZID=Europe/London:20241116T120000
DTSTAMP:20260419T214555
CREATED:20240921T092232Z
LAST-MODIFIED:20240921T092232Z
UID:7529-1731751200-1731758400@www.stmaryschurchtickhill.com
SUMMARY:10.00 - Autumn Fayre
DESCRIPTION:
URL:https://www.stmaryschurchtickhill.com/event/10-00-autumn-fayre
LOCATION:Tickhill Scout and Guide Headquarters\, St Mary's Rd\, Tickhill\,\, Doncaster\, DN11 9LZ\, United Kingdom
END:VEVENT
BEGIN:VEVENT
DTSTART;TZID=Europe/London:20241113T100000
DTEND;TZID=Europe/London:20241113T103000
DTSTAMP:20260419T214555
CREATED:20241012T180419Z
LAST-MODIFIED:20241109T165904Z
UID:7648-1731492000-1731493800@www.stmaryschurchtickhill.com
SUMMARY:10.00am - Morning Prayer - St Mary's
DESCRIPTION:
URL:https://www.stmaryschurchtickhill.com/event/10-00am-holy-communion-st-marys-54
LOCATION:St. Mary’s Church\, Tickhill\, St Mary's Church\, St Mary's Rd\, Tickhill\,\, Doncaster\, DN11 9LZ\, United Kingdom
END:VEVENT
BEGIN:VEVENT
DTSTART;TZID=Europe/London:20241111T110000
DTEND;TZID=Europe/London:20241111T113000
DTSTAMP:20260419T214555
CREATED:20241109T170020Z
LAST-MODIFIED:20241109T170020Z
UID:7840-1731322800-1731324600@www.stmaryschurchtickhill.com
SUMMARY:11.00am - Armistice Day - Act of Remembrance at the War Memorial
DESCRIPTION:
URL:https://www.stmaryschurchtickhill.com/event/11-00am-armistice-day-act-of-remembrance-at-the-war-memorial
LOCATION:St. Mary’s Church\, Tickhill\, St Mary's Church\, St Mary's Rd\, Tickhill\,\, Doncaster\, DN11 9LZ\, United Kingdom
END:VEVENT
BEGIN:VEVENT
DTSTART;TZID=Europe/London:20241110T180000
DTEND;TZID=Europe/London:20241110T190000
DTSTAMP:20260419T214555
CREATED:20241012T174428Z
LAST-MODIFIED:20241101T160522Z
UID:7615-1731261600-1731265200@www.stmaryschurchtickhill.com
SUMMARY:6.00pm - Celtic Evening Prayer - St Mary's
DESCRIPTION:
URL:https://www.stmaryschurchtickhill.com/event/6-00pm-evening-prayer-st-marys-57
LOCATION:St. Mary’s Church\, Tickhill\, St Mary's Church\, St Mary's Rd\, Tickhill\,\, Doncaster\, DN11 9LZ\, United Kingdom
END:VEVENT
BEGIN:VEVENT
DTSTART;TZID=Europe/London:20241110T103000
DTEND;TZID=Europe/London:20241110T113000
DTSTAMP:20260419T214555
CREATED:20241101T160427Z
LAST-MODIFIED:20241101T160427Z
UID:7827-1731234600-1731238200@www.stmaryschurchtickhill.com
SUMMARY:10.30am - Remembrance Sunday Service - St Winifrid's
DESCRIPTION:
URL:https://www.stmaryschurchtickhill.com/event/10-30am-remembrance-sunday-service-st-winifrids
LOCATION:St Winifrid’s Stainton
END:VEVENT
BEGIN:VEVENT
DTSTART;TZID=Europe/London:20241110T100000
DTEND;TZID=Europe/London:20241110T113000
DTSTAMP:20260419T214555
CREATED:20241012T173728Z
LAST-MODIFIED:20241101T160310Z
UID:7597-1731232800-1731238200@www.stmaryschurchtickhill.com
SUMMARY:10.15am  - Remembrance Day Service - St Mary's
DESCRIPTION:
URL:https://www.stmaryschurchtickhill.com/event/10-45am-sung-parish-eucharist-st-marys-13
LOCATION:St. Mary’s Church\, Tickhill\, St Mary's Church\, St Mary's Rd\, Tickhill\,\, Doncaster\, DN11 9LZ\, United Kingdom
END:VEVENT
BEGIN:VEVENT
DTSTART;TZID=Europe/London:20241110T080000
DTEND;TZID=Europe/London:20241110T090000
DTSTAMP:20260419T214555
CREATED:20241012T173511Z
LAST-MODIFIED:20241012T173511Z
UID:7591-1731225600-1731229200@www.stmaryschurchtickhill.com
SUMMARY:8.00 - Holy Communion - St Mary's
DESCRIPTION:
URL:https://www.stmaryschurchtickhill.com/event/8-00-holy-communion-st-marys
LOCATION:St. Mary’s Church\, Tickhill\, St Mary's Church\, St Mary's Rd\, Tickhill\,\, Doncaster\, DN11 9LZ\, United Kingdom
END:VEVENT
BEGIN:VEVENT
DTSTART;TZID=Europe/London:20241106T100000
DTEND;TZID=Europe/London:20241106T103000
DTSTAMP:20260419T214555
CREATED:20241012T180341Z
LAST-MODIFIED:20241101T160212Z
UID:7646-1730887200-1730889000@www.stmaryschurchtickhill.com
SUMMARY:10.00am - Holy Communion - St Mary's
DESCRIPTION:
URL:https://www.stmaryschurchtickhill.com/event/10-00am-morning-prayer-st-marys-16
LOCATION:St. Mary’s Church\, Tickhill\, St Mary's Church\, St Mary's Rd\, Tickhill\,\, Doncaster\, DN11 9LZ\, United Kingdom
END:VEVENT
BEGIN:VEVENT
DTSTART;TZID=Europe/London:20241103T180000
DTEND;TZID=Europe/London:20241103T190000
DTSTAMP:20260419T214555
CREATED:20241012T174341Z
LAST-MODIFIED:20241012T174341Z
UID:7613-1730656800-1730660400@www.stmaryschurchtickhill.com
SUMMARY:6.00pm - Evening Prayer
DESCRIPTION:
URL:https://www.stmaryschurchtickhill.com/event/6-00pm-evening-prayer-11
LOCATION:St. Mary’s Church\, Tickhill\, St Mary's Church\, St Mary's Rd\, Tickhill\,\, Doncaster\, DN11 9LZ\, United Kingdom
END:VEVENT
BEGIN:VEVENT
DTSTART;TZID=Europe/London:20241103T160000
DTEND;TZID=Europe/London:20241103T170000
DTSTAMP:20260419T214555
CREATED:20241012T174959Z
LAST-MODIFIED:20241012T175032Z
UID:7631-1730649600-1730653200@www.stmaryschurchtickhill.com
SUMMARY:4.00pm - Church Done Differently - Light Party - St Mary's
DESCRIPTION:
URL:https://www.stmaryschurchtickhill.com/event/4-00pm-church-done-differently-light-party
LOCATION:St. Mary’s Church\, Tickhill\, St Mary's Church\, St Mary's Rd\, Tickhill\,\, Doncaster\, DN11 9LZ\, United Kingdom
END:VEVENT
BEGIN:VEVENT
DTSTART;TZID=Europe/London:20241103T103000
DTEND;TZID=Europe/London:20241103T120000
DTSTAMP:20260419T214555
CREATED:20241012T173649Z
LAST-MODIFIED:20241012T173649Z
UID:7595-1730629800-1730635200@www.stmaryschurchtickhill.com
SUMMARY:10.45 - Sung Parish Eucharist - St Mary's
DESCRIPTION:
URL:https://www.stmaryschurchtickhill.com/event/10-45-sung-parish-eucharist-st-marys-31
LOCATION:St. Mary’s Church\, Tickhill\, St Mary's Church\, St Mary's Rd\, Tickhill\,\, Doncaster\, DN11 9LZ\, United Kingdom
END:VEVENT
BEGIN:VEVENT
DTSTART;TZID=Europe/London:20241103T090000
DTEND;TZID=Europe/London:20241103T100000
DTSTAMP:20260419T214555
CREATED:20241012T175229Z
LAST-MODIFIED:20241012T175229Z
UID:7636-1730624400-1730628000@www.stmaryschurchtickhill.com
SUMMARY:9.15am  - Monthly Morning Service - St Winifrid's
DESCRIPTION:
URL:https://www.stmaryschurchtickhill.com/event/9-15am-monthly-morning-service-st-winifrids
LOCATION:St Winifrid’s Stainton
END:VEVENT
BEGIN:VEVENT
DTSTART;TZID=Europe/London:20241030T100000
DTEND;TZID=Europe/London:20241030T110000
DTSTAMP:20260419T214555
CREATED:20240809T133336Z
LAST-MODIFIED:20240809T133336Z
UID:7442-1730282400-1730286000@www.stmaryschurchtickhill.com
SUMMARY:10.00am - Morning Prayer - St Mary's
DESCRIPTION:
URL:https://www.stmaryschurchtickhill.com/event/10-00am-morning-prayer-st-marys-15
LOCATION:St. Mary’s Church\, Tickhill\, St Mary's Church\, St Mary's Rd\, Tickhill\,\, Doncaster\, DN11 9LZ\, United Kingdom
END:VEVENT
END:VCALENDAR