BEGIN:VCALENDAR
VERSION:2.0
PRODID:-//St Mary&#039;s Church Tickhill - ECPv6.15.20//NONSGML v1.0//EN
CALSCALE:GREGORIAN
METHOD:PUBLISH
X-WR-CALNAME:St Mary&#039;s Church Tickhill
X-ORIGINAL-URL:https://www.stmaryschurchtickhill.com
X-WR-CALDESC:Events for St Mary&#039;s Church Tickhill
REFRESH-INTERVAL;VALUE=DURATION:PT1H
X-Robots-Tag:noindex
X-PUBLISHED-TTL:PT1H
BEGIN:VTIMEZONE
TZID:Europe/London
BEGIN:DAYLIGHT
TZOFFSETFROM:+0000
TZOFFSETTO:+0100
TZNAME:BST
DTSTART:20230326T010000
END:DAYLIGHT
BEGIN:STANDARD
TZOFFSETFROM:+0100
TZOFFSETTO:+0000
TZNAME:GMT
DTSTART:20231029T010000
END:STANDARD
BEGIN:DAYLIGHT
TZOFFSETFROM:+0000
TZOFFSETTO:+0100
TZNAME:BST
DTSTART:20240331T010000
END:DAYLIGHT
BEGIN:STANDARD
TZOFFSETFROM:+0100
TZOFFSETTO:+0000
TZNAME:GMT
DTSTART:20241027T010000
END:STANDARD
BEGIN:DAYLIGHT
TZOFFSETFROM:+0000
TZOFFSETTO:+0100
TZNAME:BST
DTSTART:20250330T010000
END:DAYLIGHT
BEGIN:STANDARD
TZOFFSETFROM:+0100
TZOFFSETTO:+0000
TZNAME:GMT
DTSTART:20251026T010000
END:STANDARD
END:VTIMEZONE
BEGIN:VEVENT
DTSTART;TZID=Europe/London:20241027T103000
DTEND;TZID=Europe/London:20241027T120000
DTSTAMP:20260419T225219
CREATED:20240809T131615Z
LAST-MODIFIED:20240809T131615Z
UID:7394-1730025000-1730030400@www.stmaryschurchtickhill.com
SUMMARY:10.45 - Sung Parish Eucharist - St Mary's
DESCRIPTION:
URL:https://www.stmaryschurchtickhill.com/event/10-45-sung-parish-eucharist-st-marys-30
LOCATION:St. Mary’s Church\, Tickhill\, St Mary's Church\, St Mary's Rd\, Tickhill\,\, Doncaster\, DN11 9LZ\, United Kingdom
END:VEVENT
BEGIN:VEVENT
DTSTART;TZID=Europe/London:20241023T100000
DTEND;TZID=Europe/London:20241023T110000
DTSTAMP:20260419T225219
CREATED:20240809T133306Z
LAST-MODIFIED:20240809T133306Z
UID:7440-1729677600-1729681200@www.stmaryschurchtickhill.com
SUMMARY:10.00am - Holy Communion - St Mary's
DESCRIPTION:
URL:https://www.stmaryschurchtickhill.com/event/10-00am-holy-communion-st-marys-53
LOCATION:St. Mary’s Church\, Tickhill\, St Mary's Church\, St Mary's Rd\, Tickhill\,\, Doncaster\, DN11 9LZ\, United Kingdom
END:VEVENT
BEGIN:VEVENT
DTSTART;TZID=Europe/London:20241020T180000
DTEND;TZID=Europe/London:20241020T190000
DTSTAMP:20260419T225219
CREATED:20240809T132137Z
LAST-MODIFIED:20240809T132137Z
UID:7410-1729447200-1729450800@www.stmaryschurchtickhill.com
SUMMARY:6.00pm - Holy Communion - St Mary's
DESCRIPTION:
URL:https://www.stmaryschurchtickhill.com/event/6-00pm-holy-communion-st-marys-12
LOCATION:St. Mary’s Church\, Tickhill\, St Mary's Church\, St Mary's Rd\, Tickhill\,\, Doncaster\, DN11 9LZ\, United Kingdom
END:VEVENT
BEGIN:VEVENT
DTSTART;TZID=Europe/London:20241020T103000
DTEND;TZID=Europe/London:20241020T120000
DTSTAMP:20260419T225219
CREATED:20240809T131550Z
LAST-MODIFIED:20240809T131550Z
UID:7392-1729420200-1729425600@www.stmaryschurchtickhill.com
SUMMARY:10.45 - Celtic Morning Prayer - St Mary's
DESCRIPTION:
URL:https://www.stmaryschurchtickhill.com/event/10-45-celtic-morning-prayer-st-marys-5
LOCATION:St. Mary’s Church\, Tickhill\, St Mary's Church\, St Mary's Rd\, Tickhill\,\, Doncaster\, DN11 9LZ\, United Kingdom
END:VEVENT
BEGIN:VEVENT
DTSTART;TZID=Europe/London:20241016T100000
DTEND;TZID=Europe/London:20241016T110000
DTSTAMP:20260419T225219
CREATED:20240809T133224Z
LAST-MODIFIED:20240809T133224Z
UID:7438-1729072800-1729076400@www.stmaryschurchtickhill.com
SUMMARY:10.00am - Morning Prayer - St Mary's
DESCRIPTION:
URL:https://www.stmaryschurchtickhill.com/event/10-00am-morning-prayer-st-marys-14
LOCATION:St. Mary’s Church\, Tickhill\, St Mary's Church\, St Mary's Rd\, Tickhill\,\, Doncaster\, DN11 9LZ\, United Kingdom
END:VEVENT
BEGIN:VEVENT
DTSTART;TZID=Europe/London:20241013T180000
DTEND;TZID=Europe/London:20241013T190000
DTSTAMP:20260419T225219
CREATED:20240809T132051Z
LAST-MODIFIED:20241005T151721Z
UID:7408-1728842400-1728846000@www.stmaryschurchtickhill.com
SUMMARY:6.00pm - Celtic Evening Prayer - St Mary's
DESCRIPTION:
URL:https://www.stmaryschurchtickhill.com/event/6-00pm-evening-prayer-st-marys-56
LOCATION:St. Mary’s Church\, Tickhill\, St Mary's Church\, St Mary's Rd\, Tickhill\,\, Doncaster\, DN11 9LZ\, United Kingdom
END:VEVENT
BEGIN:VEVENT
DTSTART;TZID=Europe/London:20241013T153000
DTEND;TZID=Europe/London:20241013T170000
DTSTAMP:20260419T225219
CREATED:20241005T151641Z
LAST-MODIFIED:20241005T151641Z
UID:7577-1728833400-1728838800@www.stmaryschurchtickhill.com
SUMMARY:3.30pm - Harvest Service at St Winfrid's Stainton
DESCRIPTION:
URL:https://www.stmaryschurchtickhill.com/event/3-30pm-harvest-service-at-st-winfrids-stainton
LOCATION:St Winifrid’s Stainton
END:VEVENT
BEGIN:VEVENT
DTSTART;TZID=Europe/London:20241013T153000
DTEND;TZID=Europe/London:20241013T163000
DTSTAMP:20260419T225219
CREATED:20240929T085128Z
LAST-MODIFIED:20240929T085128Z
UID:7559-1728833400-1728837000@www.stmaryschurchtickhill.com
SUMMARY:3.30pm - Pet Celebration Service - 'All special to God'
DESCRIPTION:
URL:https://www.stmaryschurchtickhill.com/event/3-30pm-pet-celebration-service-all-special-to-god
LOCATION:St. Mary’s Church\, Tickhill\, St Mary's Church\, St Mary's Rd\, Tickhill\,\, Doncaster\, DN11 9LZ\, United Kingdom
END:VEVENT
BEGIN:VEVENT
DTSTART;TZID=Europe/London:20241013T103000
DTEND;TZID=Europe/London:20241013T120000
DTSTAMP:20260419T225219
CREATED:20240809T131507Z
LAST-MODIFIED:20240809T131507Z
UID:7390-1728815400-1728820800@www.stmaryschurchtickhill.com
SUMMARY:10.45 - Sung Parish Eucharist - St Mary's
DESCRIPTION:
URL:https://www.stmaryschurchtickhill.com/event/10-45-sung-parish-eucharist-st-marys-29
LOCATION:St. Mary’s Church\, Tickhill\, St Mary's Church\, St Mary's Rd\, Tickhill\,\, Doncaster\, DN11 9LZ\, United Kingdom
END:VEVENT
BEGIN:VEVENT
DTSTART;TZID=Europe/London:20241013T080000
DTEND;TZID=Europe/London:20241013T090000
DTSTAMP:20260419T225219
CREATED:20240809T132329Z
LAST-MODIFIED:20240809T132329Z
UID:7416-1728806400-1728810000@www.stmaryschurchtickhill.com
SUMMARY:8.00am - Holy Communion - St Mary's
DESCRIPTION:
URL:https://www.stmaryschurchtickhill.com/event/8-00am-holy-communion-st-marys-17
LOCATION:St. Mary’s Church\, Tickhill\, St Mary's Church\, St Mary's Rd\, Tickhill\,\, Doncaster\, DN11 9LZ\, United Kingdom
END:VEVENT
BEGIN:VEVENT
DTSTART;TZID=Europe/London:20241009T100000
DTEND;TZID=Europe/London:20241009T110000
DTSTAMP:20260419T225219
CREATED:20240809T133156Z
LAST-MODIFIED:20241005T151413Z
UID:7436-1728468000-1728471600@www.stmaryschurchtickhill.com
SUMMARY:10.00am - Morning Prayer - St Mary's
DESCRIPTION:
URL:https://www.stmaryschurchtickhill.com/event/10-00am-holy-communion-st-marys-52
LOCATION:St. Mary’s Church\, Tickhill\, St Mary's Church\, St Mary's Rd\, Tickhill\,\, Doncaster\, DN11 9LZ\, United Kingdom
END:VEVENT
BEGIN:VEVENT
DTSTART;TZID=Europe/London:20241006T180000
DTEND;TZID=Europe/London:20241006T190000
DTSTAMP:20260419T225219
CREATED:20240809T132021Z
LAST-MODIFIED:20240809T132021Z
UID:7406-1728237600-1728241200@www.stmaryschurchtickhill.com
SUMMARY:6.00pm - Evening Prayer - St Mary's
DESCRIPTION:
URL:https://www.stmaryschurchtickhill.com/event/6-00pm-evening-prayer-st-marys-55
LOCATION:St. Mary’s Church\, Tickhill\, St Mary's Church\, St Mary's Rd\, Tickhill\,\, Doncaster\, DN11 9LZ\, United Kingdom
END:VEVENT
BEGIN:VEVENT
DTSTART;TZID=Europe/London:20241006T160000
DTEND;TZID=Europe/London:20241006T170000
DTSTAMP:20260419T225219
CREATED:20240809T132454Z
LAST-MODIFIED:20240809T132454Z
UID:7420-1728230400-1728234000@www.stmaryschurchtickhill.com
SUMMARY:4.00pm - Church Done Differently - St Mary's
DESCRIPTION:
URL:https://www.stmaryschurchtickhill.com/event/4-00pm-church-done-differently-st-marys-9
LOCATION:St. Mary’s Church\, Tickhill\, St Mary's Church\, St Mary's Rd\, Tickhill\,\, Doncaster\, DN11 9LZ\, United Kingdom
END:VEVENT
BEGIN:VEVENT
DTSTART;TZID=Europe/London:20241006T103000
DTEND;TZID=Europe/London:20241006T120000
DTSTAMP:20260419T225219
CREATED:20240809T131436Z
LAST-MODIFIED:20240809T131436Z
UID:7388-1728210600-1728216000@www.stmaryschurchtickhill.com
SUMMARY:10.45 - Sung Parish Eucharist - St Mary's
DESCRIPTION:
URL:https://www.stmaryschurchtickhill.com/event/10-45-sung-parish-eucharist-st-marys-28
LOCATION:St. Mary’s Church\, Tickhill\, St Mary's Church\, St Mary's Rd\, Tickhill\,\, Doncaster\, DN11 9LZ\, United Kingdom
END:VEVENT
BEGIN:VEVENT
DTSTART;TZID=Europe/London:20241006T090000
DTEND;TZID=Europe/London:20241006T100000
DTSTAMP:20260419T225219
CREATED:20240809T132621Z
LAST-MODIFIED:20240809T132621Z
UID:7424-1728205200-1728208800@www.stmaryschurchtickhill.com
SUMMARY:9.15am - Monthly Service - St Winifrid's
DESCRIPTION:
URL:https://www.stmaryschurchtickhill.com/event/9-15am-monthly-service-st-winifrids-6
LOCATION:St Winifrid’s Stainton
END:VEVENT
BEGIN:VEVENT
DTSTART;TZID=Europe/London:20241004T200000
DTEND;TZID=Europe/London:20241004T210000
DTSTAMP:20260419T225219
CREATED:20240921T091920Z
LAST-MODIFIED:20240929T084933Z
UID:7525-1728072000-1728075600@www.stmaryschurchtickhill.com
SUMMARY:8.15pm - Compline - the Season of Creation
DESCRIPTION:
URL:https://www.stmaryschurchtickhill.com/event/8-15pm-compline-the-season-of-creation
LOCATION:St. Mary’s Church\, Tickhill\, St Mary's Church\, St Mary's Rd\, Tickhill\,\, Doncaster\, DN11 9LZ\, United Kingdom
END:VEVENT
BEGIN:VEVENT
DTSTART;TZID=Europe/London:20241002T100000
DTEND;TZID=Europe/London:20241002T110000
DTSTAMP:20260419T225219
CREATED:20240809T133109Z
LAST-MODIFIED:20240809T133109Z
UID:7434-1727863200-1727866800@www.stmaryschurchtickhill.com
SUMMARY:10.00am - Morning Prayer - St Mary's
DESCRIPTION:
URL:https://www.stmaryschurchtickhill.com/event/10-00am-morning-prayer-st-marys-13
LOCATION:St. Mary’s Church\, Tickhill\, St Mary's Church\, St Mary's Rd\, Tickhill\,\, Doncaster\, DN11 9LZ\, United Kingdom
END:VEVENT
BEGIN:VEVENT
DTSTART;TZID=Europe/London:20240929T180000
DTEND;TZID=Europe/London:20240929T190000
DTSTAMP:20260419T225219
CREATED:20240809T131955Z
LAST-MODIFIED:20240921T091651Z
UID:7404-1727632800-1727636400@www.stmaryschurchtickhill.com
SUMMARY:6.00pm - Choral Festival Evensong - St Mary's
DESCRIPTION:
URL:https://www.stmaryschurchtickhill.com/event/6-00pm-evensong-st-marys
LOCATION:St. Mary’s Church\, Tickhill\, St Mary's Church\, St Mary's Rd\, Tickhill\,\, Doncaster\, DN11 9LZ\, United Kingdom
END:VEVENT
BEGIN:VEVENT
DTSTART;TZID=Europe/London:20240929T103000
DTEND;TZID=Europe/London:20240929T120000
DTSTAMP:20260419T225219
CREATED:20240809T131411Z
LAST-MODIFIED:20240809T131411Z
UID:7386-1727605800-1727611200@www.stmaryschurchtickhill.com
SUMMARY:10.45 - Sung Parish Eucharist - St Mary's
DESCRIPTION:
URL:https://www.stmaryschurchtickhill.com/event/10-45-sung-parish-eucharist-st-marys-27
LOCATION:St. Mary’s Church\, Tickhill\, St Mary's Church\, St Mary's Rd\, Tickhill\,\, Doncaster\, DN11 9LZ\, United Kingdom
END:VEVENT
BEGIN:VEVENT
DTSTART;TZID=Europe/London:20240928T170000
DTEND;TZID=Europe/London:20240928T190000
DTSTAMP:20260419T225219
CREATED:20240921T091750Z
LAST-MODIFIED:20240921T091750Z
UID:7523-1727542800-1727550000@www.stmaryschurchtickhill.com
SUMMARY:5.00pm - Harvest Supper
DESCRIPTION:
URL:https://www.stmaryschurchtickhill.com/event/5-00pm-harvest-supper
END:VEVENT
BEGIN:VEVENT
DTSTART;TZID=Europe/London:20240925T100000
DTEND;TZID=Europe/London:20240925T110000
DTSTAMP:20260419T225219
CREATED:20240809T133038Z
LAST-MODIFIED:20240809T133038Z
UID:7432-1727258400-1727262000@www.stmaryschurchtickhill.com
SUMMARY:10.00am - Holy Communion - St Mary's
DESCRIPTION:
URL:https://www.stmaryschurchtickhill.com/event/10-00am-holy-communion-st-marys-51
LOCATION:St Winifrid’s Stainton
END:VEVENT
BEGIN:VEVENT
DTSTART;TZID=Europe/London:20240922T180000
DTEND;TZID=Europe/London:20240922T190000
DTSTAMP:20260419T225219
CREATED:20240809T131919Z
LAST-MODIFIED:20240809T131919Z
UID:7402-1727028000-1727031600@www.stmaryschurchtickhill.com
SUMMARY:6.00pm - Evening Prayer - St Mary's
DESCRIPTION:
URL:https://www.stmaryschurchtickhill.com/event/6-00pm-evening-prayer-st-marys-54
LOCATION:St. Mary’s Church\, Tickhill\, St Mary's Church\, St Mary's Rd\, Tickhill\,\, Doncaster\, DN11 9LZ\, United Kingdom
END:VEVENT
BEGIN:VEVENT
DTSTART;TZID=Europe/London:20240922T103000
DTEND;TZID=Europe/London:20240922T120000
DTSTAMP:20260419T225219
CREATED:20240809T131339Z
LAST-MODIFIED:20240809T131339Z
UID:7384-1727001000-1727006400@www.stmaryschurchtickhill.com
SUMMARY:10.45 - Sung Parish Eucharist - St Mary's
DESCRIPTION:
URL:https://www.stmaryschurchtickhill.com/event/10-45-sung-parish-eucharist-st-marys-26
LOCATION:St. Mary’s Church\, Tickhill\, St Mary's Church\, St Mary's Rd\, Tickhill\,\, Doncaster\, DN11 9LZ\, United Kingdom
END:VEVENT
BEGIN:VEVENT
DTSTART;TZID=Europe/London:20240921T180000
DTEND;TZID=Europe/London:20240921T193000
DTSTAMP:20260419T225219
CREATED:20240830T140907Z
LAST-MODIFIED:20240830T140907Z
UID:7483-1726941600-1726947000@www.stmaryschurchtickhill.com
SUMMARY:6.00pm - Free concert - Music for Brass\, strings and voices
DESCRIPTION:For more information\, PLEASE CLICK HERE
URL:https://www.stmaryschurchtickhill.com/event/6-00pm-free-concert-music-for-brass-strings-and-voices
LOCATION:St. Mary’s Church\, Tickhill\, St Mary's Church\, St Mary's Rd\, Tickhill\,\, Doncaster\, DN11 9LZ\, United Kingdom
END:VEVENT
BEGIN:VEVENT
DTSTART;TZID=Europe/London:20240918T100000
DTEND;TZID=Europe/London:20240918T110000
DTSTAMP:20260419T225219
CREATED:20240809T132952Z
LAST-MODIFIED:20240809T132952Z
UID:7430-1726653600-1726657200@www.stmaryschurchtickhill.com
SUMMARY:10.00am - Morning Prayer - St Mary's
DESCRIPTION:
URL:https://www.stmaryschurchtickhill.com/event/10-00am-morning-prayer-st-marys-12
LOCATION:St. Mary’s Church\, Tickhill\, St Mary's Church\, St Mary's Rd\, Tickhill\,\, Doncaster\, DN11 9LZ\, United Kingdom
END:VEVENT
BEGIN:VEVENT
DTSTART;TZID=Europe/London:20240915T180000
DTEND;TZID=Europe/London:20240915T190000
DTSTAMP:20260419T225219
CREATED:20240809T131837Z
LAST-MODIFIED:20240809T131837Z
UID:7400-1726423200-1726426800@www.stmaryschurchtickhill.com
SUMMARY:6.00pm - Holy Communion - St Mary's
DESCRIPTION:
URL:https://www.stmaryschurchtickhill.com/event/6-00pm-holy-communion-st-marys-11
LOCATION:St. Mary’s Church\, Tickhill\, St Mary's Church\, St Mary's Rd\, Tickhill\,\, Doncaster\, DN11 9LZ\, United Kingdom
END:VEVENT
BEGIN:VEVENT
DTSTART;TZID=Europe/London:20240915T103000
DTEND;TZID=Europe/London:20240915T120000
DTSTAMP:20260419T225219
CREATED:20240809T131257Z
LAST-MODIFIED:20240809T131257Z
UID:7382-1726396200-1726401600@www.stmaryschurchtickhill.com
SUMMARY:10.45 - Celtic Morning Prayer - St Mary's
DESCRIPTION:
URL:https://www.stmaryschurchtickhill.com/event/10-45-celtic-morning-prayer-st-marys-4
LOCATION:St. Mary’s Church\, Tickhill\, St Mary's Church\, St Mary's Rd\, Tickhill\,\, Doncaster\, DN11 9LZ\, United Kingdom
END:VEVENT
BEGIN:VEVENT
DTSTART;TZID=Europe/London:20240911T100000
DTEND;TZID=Europe/London:20240911T110000
DTSTAMP:20260419T225219
CREATED:20240809T132919Z
LAST-MODIFIED:20240809T132919Z
UID:7428-1726048800-1726052400@www.stmaryschurchtickhill.com
SUMMARY:10.00am - Holy Communion - St Mary's
DESCRIPTION:
URL:https://www.stmaryschurchtickhill.com/event/10-00am-holy-communion-st-marys-50
LOCATION:St. Mary’s Church\, Tickhill\, St Mary's Church\, St Mary's Rd\, Tickhill\,\, Doncaster\, DN11 9LZ\, United Kingdom
END:VEVENT
BEGIN:VEVENT
DTSTART;TZID=Europe/London:20240908T180000
DTEND;TZID=Europe/London:20240908T190000
DTSTAMP:20260419T225219
CREATED:20240809T131742Z
LAST-MODIFIED:20240908T090233Z
UID:7398-1725818400-1725822000@www.stmaryschurchtickhill.com
SUMMARY:6.00pm - Celtic Evening Prayer - St Mary's
DESCRIPTION:
URL:https://www.stmaryschurchtickhill.com/event/6-00pm-evening-prayer-st-marys-53
LOCATION:St. Mary’s Church\, Tickhill\, St Mary's Church\, St Mary's Rd\, Tickhill\,\, Doncaster\, DN11 9LZ\, United Kingdom
END:VEVENT
BEGIN:VEVENT
DTSTART;TZID=Europe/London:20240908T103000
DTEND;TZID=Europe/London:20240908T120000
DTSTAMP:20260419T225219
CREATED:20240809T131211Z
LAST-MODIFIED:20240809T131211Z
UID:7380-1725791400-1725796800@www.stmaryschurchtickhill.com
SUMMARY:10.45 - Sung Parish Eucharist - St Mary's
DESCRIPTION:
URL:https://www.stmaryschurchtickhill.com/event/10-45-sung-parish-eucharist-st-marys-25
LOCATION:St. Mary’s Church\, Tickhill\, St Mary's Church\, St Mary's Rd\, Tickhill\,\, Doncaster\, DN11 9LZ\, United Kingdom
END:VEVENT
END:VCALENDAR