BEGIN:VCALENDAR
VERSION:2.0
PRODID:-//St Mary&#039;s Church Tickhill - ECPv6.15.20//NONSGML v1.0//EN
CALSCALE:GREGORIAN
METHOD:PUBLISH
X-WR-CALNAME:St Mary&#039;s Church Tickhill
X-ORIGINAL-URL:https://www.stmaryschurchtickhill.com
X-WR-CALDESC:Events for St Mary&#039;s Church Tickhill
REFRESH-INTERVAL;VALUE=DURATION:PT1H
X-Robots-Tag:noindex
X-PUBLISHED-TTL:PT1H
BEGIN:VTIMEZONE
TZID:Europe/London
BEGIN:DAYLIGHT
TZOFFSETFROM:+0000
TZOFFSETTO:+0100
TZNAME:BST
DTSTART:20210328T010000
END:DAYLIGHT
BEGIN:STANDARD
TZOFFSETFROM:+0100
TZOFFSETTO:+0000
TZNAME:GMT
DTSTART:20211031T010000
END:STANDARD
BEGIN:DAYLIGHT
TZOFFSETFROM:+0000
TZOFFSETTO:+0100
TZNAME:BST
DTSTART:20220327T010000
END:DAYLIGHT
BEGIN:STANDARD
TZOFFSETFROM:+0100
TZOFFSETTO:+0000
TZNAME:GMT
DTSTART:20221030T010000
END:STANDARD
BEGIN:DAYLIGHT
TZOFFSETFROM:+0000
TZOFFSETTO:+0100
TZNAME:BST
DTSTART:20230326T010000
END:DAYLIGHT
BEGIN:STANDARD
TZOFFSETFROM:+0100
TZOFFSETTO:+0000
TZNAME:GMT
DTSTART:20231029T010000
END:STANDARD
END:VTIMEZONE
BEGIN:VEVENT
DTSTART;TZID=Europe/London:20220904T103000
DTEND;TZID=Europe/London:20220904T113000
DTSTAMP:20260424T190630
CREATED:20220805T100413Z
LAST-MODIFIED:20220805T100413Z
UID:4479-1662287400-1662291000@www.stmaryschurchtickhill.com
SUMMARY:10.30 Parish Communion
DESCRIPTION:
URL:https://www.stmaryschurchtickhill.com/event/10-30-parish-communion
END:VEVENT
BEGIN:VEVENT
DTSTART;TZID=Europe/London:20220904T123000
DTEND;TZID=Europe/London:20220904T143000
DTSTAMP:20260424T190630
CREATED:20220717T133027Z
LAST-MODIFIED:20220717T142831Z
UID:4307-1662294600-1662301800@www.stmaryschurchtickhill.com
SUMMARY:Lunch at John Marsden's - 27 Sunderland St
DESCRIPTION:LUNCH AT JOHN MARSDEN’S – 27 SUNDERLAND ST\n\nAs we seek to raise funds to replace our gas boilers with hydrogen-powered ones\, as the first phase of making St Mary’s church a more warm and welcoming space both for our worship\, and for the use of the wider community in Tickhill\, please support this event if you can.\nBook in with John Marsden on 01302 744142.   Places are limited to 12 people and the cost is £15.00 per head.  If you would like to help serve on the day\, please use the words ‘Free Lunch’ to John.
URL:https://www.stmaryschurchtickhill.com/event/lunch-at-john-marsdens-27-sunderland-st-2
CATEGORIES:WARM AND WELCOMING CHURCH
ATTACH;FMTTYPE=image/jpeg:https://www.stmaryschurchtickhill.com/wp-content/uploads/2022/07/Sunday-lunch.jpeg
END:VEVENT
BEGIN:VEVENT
DTSTART;TZID=Europe/London:20220907T100000
DTEND;TZID=Europe/London:20220907T103000
DTSTAMP:20260424T190630
CREATED:20220827T102146Z
LAST-MODIFIED:20220827T102146Z
UID:4540-1662544800-1662546600@www.stmaryschurchtickhill.com
SUMMARY:10.00am - Holy Communion - St Luke's Chapel
DESCRIPTION:
URL:https://www.stmaryschurchtickhill.com/event/10-00am-holy-communion-st-lukes-chapel
END:VEVENT
BEGIN:VEVENT
DTSTART;TZID=Europe/London:20220910T190000
DTEND;TZID=Europe/London:20220910T200000
DTSTAMP:20260424T190630
CREATED:20220721T110004Z
LAST-MODIFIED:20220827T100000Z
UID:4375-1662836400-1662840000@www.stmaryschurchtickhill.com
SUMMARY:SATURDAY 10 SEPTEMBER - 'WEST END' CONCERT - 7PM
DESCRIPTION:SATURDAY 10 SEPTEMBER – ‘WEST END’ CONCERT – 7PM\n\nA short hour-long concert of wide-ranging content including music for tuba and music for cello and songs from the Tickhill Community Choir\nAll to take place at the West end of St Mary’s church under the tower\, to enjoy the excellent acoustics. To be followed by a selection of summer desserts to eat.\nRetiring collection in aid of the ‘Warm and Welcoming Church’ appeal to raise funds for new hydrogen-ready boilers to heat the church.
URL:https://www.stmaryschurchtickhill.com/event/saturday-10-september-west-end-concert-7pm
CATEGORIES:WARM AND WELCOMING CHURCH
ATTACH;FMTTYPE=image/jpeg:https://www.stmaryschurchtickhill.com/wp-content/uploads/2022/08/West-End-Concert-Poster-220910.jpg
END:VEVENT
BEGIN:VEVENT
DTSTART;TZID=Europe/London:20220911T103000
DTEND;TZID=Europe/London:20220911T113000
DTSTAMP:20260424T190630
CREATED:20220805T100548Z
LAST-MODIFIED:20220805T100548Z
UID:4481-1662892200-1662895800@www.stmaryschurchtickhill.com
SUMMARY:10.30 Parish Communion
DESCRIPTION:
URL:https://www.stmaryschurchtickhill.com/event/10-30-parish-communion-2
END:VEVENT
BEGIN:VEVENT
DTSTART;TZID=Europe/London:20220914T100000
DTEND;TZID=Europe/London:20220914T103000
DTSTAMP:20260424T190630
CREATED:20220827T102223Z
LAST-MODIFIED:20220827T102223Z
UID:4542-1663149600-1663151400@www.stmaryschurchtickhill.com
SUMMARY:10.00am - Holy Communion - St Luke's Chapel
DESCRIPTION:
URL:https://www.stmaryschurchtickhill.com/event/10-00am-holy-communion-st-lukes-chapel-2
END:VEVENT
BEGIN:VEVENT
DTSTART;TZID=Europe/London:20220918T103000
DTEND;TZID=Europe/London:20220918T113000
DTSTAMP:20260424T190630
CREATED:20220805T100622Z
LAST-MODIFIED:20220805T100622Z
UID:4483-1663497000-1663500600@www.stmaryschurchtickhill.com
SUMMARY:10.30 Parish Communion
DESCRIPTION:
URL:https://www.stmaryschurchtickhill.com/event/10-30-parish-communion-3
END:VEVENT
BEGIN:VEVENT
DTSTART;TZID=Europe/London:20220918T123000
DTEND;TZID=Europe/London:20220918T143000
DTSTAMP:20260424T190630
CREATED:20220717T133223Z
LAST-MODIFIED:20220717T143205Z
UID:4310-1663504200-1663511400@www.stmaryschurchtickhill.com
SUMMARY:Lunch at John Marsden's - 27 Sunderland St
DESCRIPTION:LUNCH AT JOHN MARSDEN’S – 27 SUNDERLAND ST\n\nAs we seek to raise funds to replace our gas boilers with hydrogen-powered ones\, as the first phase of making St Mary’s church a more warm and welcoming space both for our worship\, and for the use of the wider community in Tickhill\, please support this event if you can.\nBook in with John Marsden on 01302 744142.   Places are limited to 12 people and the cost is £15.00 per head.  If you would like to help serve on the day\, please use the words ‘Free Lunch’ to John.
URL:https://www.stmaryschurchtickhill.com/event/lunch-at-john-marsdens-27-sunderland-st-3
CATEGORIES:WARM AND WELCOMING CHURCH
ATTACH;FMTTYPE=image/jpeg:https://www.stmaryschurchtickhill.com/wp-content/uploads/2022/07/Sunday-lunch.jpeg
END:VEVENT
BEGIN:VEVENT
DTSTART;TZID=Europe/London:20220918T160000
DTEND;TZID=Europe/London:20220918T170000
DTSTAMP:20260424T190630
CREATED:20220805T100930Z
LAST-MODIFIED:20220911T144921Z
UID:4492-1663516800-1663520400@www.stmaryschurchtickhill.com
SUMMARY:4.00pm Service of Commemoration for Queen Elizabeth II
DESCRIPTION:
URL:https://www.stmaryschurchtickhill.com/event/4-00pm-evening-prayer
END:VEVENT
BEGIN:VEVENT
DTSTART;TZID=Europe/London:20220921T100000
DTEND;TZID=Europe/London:20220921T103000
DTSTAMP:20260424T190630
CREATED:20220827T102258Z
LAST-MODIFIED:20220827T102258Z
UID:4544-1663754400-1663756200@www.stmaryschurchtickhill.com
SUMMARY:10.00am - Holy Communion - St Luke's Chapel
DESCRIPTION:
URL:https://www.stmaryschurchtickhill.com/event/10-00am-holy-communion-st-lukes-chapel-3
END:VEVENT
BEGIN:VEVENT
DTSTART;TZID=Europe/London:20220925T103000
DTEND;TZID=Europe/London:20220925T113000
DTSTAMP:20260424T190630
CREATED:20220805T100659Z
LAST-MODIFIED:20220805T100659Z
UID:4485-1664101800-1664105400@www.stmaryschurchtickhill.com
SUMMARY:10.30 Parish Communion
DESCRIPTION:
URL:https://www.stmaryschurchtickhill.com/event/10-30-parish-communion-4
END:VEVENT
BEGIN:VEVENT
DTSTART;TZID=Europe/London:20220925T180000
DTEND;TZID=Europe/London:20220925T190000
DTSTAMP:20260424T190630
CREATED:20220805T101019Z
LAST-MODIFIED:20220902T112403Z
UID:4495-1664128800-1664132400@www.stmaryschurchtickhill.com
SUMMARY:6.00pm Harvest Evensong
DESCRIPTION:
URL:https://www.stmaryschurchtickhill.com/event/6-00pm-evening-prayer
END:VEVENT
BEGIN:VEVENT
DTSTART;TZID=Europe/London:20220928T100000
DTEND;TZID=Europe/London:20220928T103000
DTSTAMP:20260424T190630
CREATED:20220827T102351Z
LAST-MODIFIED:20220827T102351Z
UID:4546-1664359200-1664361000@www.stmaryschurchtickhill.com
SUMMARY:10.00am - Holy Communion - St Luke's Chapel
DESCRIPTION:
URL:https://www.stmaryschurchtickhill.com/event/10-00am-holy-communion-st-lukes-chapel-4
END:VEVENT
END:VCALENDAR