BEGIN:VCALENDAR
VERSION:2.0
PRODID:-//St Mary&#039;s Church Tickhill - ECPv6.15.20//NONSGML v1.0//EN
CALSCALE:GREGORIAN
METHOD:PUBLISH
X-WR-CALNAME:St Mary&#039;s Church Tickhill
X-ORIGINAL-URL:https://www.stmaryschurchtickhill.com
X-WR-CALDESC:Events for St Mary&#039;s Church Tickhill
REFRESH-INTERVAL;VALUE=DURATION:PT1H
X-Robots-Tag:noindex
X-PUBLISHED-TTL:PT1H
BEGIN:VTIMEZONE
TZID:Europe/London
BEGIN:DAYLIGHT
TZOFFSETFROM:+0000
TZOFFSETTO:+0100
TZNAME:BST
DTSTART:20240331T010000
END:DAYLIGHT
BEGIN:STANDARD
TZOFFSETFROM:+0100
TZOFFSETTO:+0000
TZNAME:GMT
DTSTART:20241027T010000
END:STANDARD
BEGIN:DAYLIGHT
TZOFFSETFROM:+0000
TZOFFSETTO:+0100
TZNAME:BST
DTSTART:20250330T010000
END:DAYLIGHT
BEGIN:STANDARD
TZOFFSETFROM:+0100
TZOFFSETTO:+0000
TZNAME:GMT
DTSTART:20251026T010000
END:STANDARD
BEGIN:DAYLIGHT
TZOFFSETFROM:+0000
TZOFFSETTO:+0100
TZNAME:BST
DTSTART:20260329T010000
END:DAYLIGHT
BEGIN:STANDARD
TZOFFSETFROM:+0100
TZOFFSETTO:+0000
TZNAME:GMT
DTSTART:20261025T010000
END:STANDARD
END:VTIMEZONE
BEGIN:VEVENT
DTSTART;TZID=Europe/London:20250101T100000
DTEND;TZID=Europe/London:20250101T103000
DTSTAMP:20260421T212326
CREATED:20241227T122725Z
LAST-MODIFIED:20241227T122725Z
UID:8047-1735725600-1735727400@www.stmaryschurchtickhill.com
SUMMARY:10.00am - Holy Communion - St Mary's
DESCRIPTION:
URL:https://www.stmaryschurchtickhill.com/event/10-00am-holy-communion-st-marys-57
LOCATION:St. Mary’s Church\, Tickhill\, St Mary's Church\, St Mary's Rd\, Tickhill\,\, Doncaster\, DN11 9LZ\, United Kingdom
END:VEVENT
BEGIN:VEVENT
DTSTART;TZID=Europe/London:20250105T090000
DTEND;TZID=Europe/London:20250105T100000
DTSTAMP:20260421T212326
CREATED:20241130T155152Z
LAST-MODIFIED:20241130T155152Z
UID:7958-1736067600-1736071200@www.stmaryschurchtickhill.com
SUMMARY:9.15 am - Monthly Communion Service - St Winifrid's
DESCRIPTION:
URL:https://www.stmaryschurchtickhill.com/event/9-15-am-monthly-communion-service-st-winifrids
LOCATION:St Winifrid’s Stainton
END:VEVENT
BEGIN:VEVENT
DTSTART;TZID=Europe/London:20250105T103000
DTEND;TZID=Europe/London:20250105T120000
DTSTAMP:20260421T212326
CREATED:20241130T154537Z
LAST-MODIFIED:20241130T154537Z
UID:7939-1736073000-1736078400@www.stmaryschurchtickhill.com
SUMMARY:10.45 am - Sung Parish Eucharist - St Mary's
DESCRIPTION:
URL:https://www.stmaryschurchtickhill.com/event/10-45-am-sung-parish-eucharist-st-marys-4
LOCATION:St. Mary’s Church\, Tickhill\, St Mary's Church\, St Mary's Rd\, Tickhill\,\, Doncaster\, DN11 9LZ\, United Kingdom
END:VEVENT
BEGIN:VEVENT
DTSTART;TZID=Europe/London:20250105T160000
DTEND;TZID=Europe/London:20250105T170000
DTSTAMP:20260421T212326
CREATED:20241130T155059Z
LAST-MODIFIED:20241130T155059Z
UID:7956-1736092800-1736096400@www.stmaryschurchtickhill.com
SUMMARY:4.00pm - Church Done Differently - St Mary's
DESCRIPTION:
URL:https://www.stmaryschurchtickhill.com/event/4-00pm-church-done-differently-st-marys-10
LOCATION:St. Mary’s Church\, Tickhill\, St Mary's Church\, St Mary's Rd\, Tickhill\,\, Doncaster\, DN11 9LZ\, United Kingdom
END:VEVENT
BEGIN:VEVENT
DTSTART;TZID=Europe/London:20250105T180000
DTEND;TZID=Europe/London:20250105T190000
DTSTAMP:20260421T212326
CREATED:20241130T154842Z
LAST-MODIFIED:20241130T154842Z
UID:7948-1736100000-1736103600@www.stmaryschurchtickhill.com
SUMMARY:6.00 pm - Evening Prayer - St Mary's
DESCRIPTION:
URL:https://www.stmaryschurchtickhill.com/event/6-00-pm-evening-prayer-st-marys-4
LOCATION:St. Mary’s Church\, Tickhill\, St Mary's Church\, St Mary's Rd\, Tickhill\,\, Doncaster\, DN11 9LZ\, United Kingdom
END:VEVENT
BEGIN:VEVENT
DTSTART;TZID=Europe/London:20250108T100000
DTEND;TZID=Europe/London:20250108T110000
DTSTAMP:20260421T212326
CREATED:20241130T155257Z
LAST-MODIFIED:20250103T163137Z
UID:7960-1736330400-1736334000@www.stmaryschurchtickhill.com
SUMMARY:10.00 am - Morning Prayer - St Mary's
DESCRIPTION:
URL:https://www.stmaryschurchtickhill.com/event/10-00-am-morning-prayer-st-marys
LOCATION:St. Mary’s Church\, Tickhill\, St Mary's Church\, St Mary's Rd\, Tickhill\,\, Doncaster\, DN11 9LZ\, United Kingdom
END:VEVENT
BEGIN:VEVENT
DTSTART;TZID=Europe/London:20250112T080000
DTEND;TZID=Europe/London:20250112T090000
DTSTAMP:20260421T212326
CREATED:20250103T152954Z
LAST-MODIFIED:20250103T152954Z
UID:8115-1736668800-1736672400@www.stmaryschurchtickhill.com
SUMMARY:8.00 am - Holy Communion - St Mary's
DESCRIPTION:
URL:https://www.stmaryschurchtickhill.com/event/8-00-am-holy-communion-st-marys-4
LOCATION:St. Mary’s Church\, Tickhill\, St Mary's Church\, St Mary's Rd\, Tickhill\,\, Doncaster\, DN11 9LZ\, United Kingdom
END:VEVENT
BEGIN:VEVENT
DTSTART;TZID=Europe/London:20250112T103000
DTEND;TZID=Europe/London:20250112T120000
DTSTAMP:20260421T212326
CREATED:20241130T154607Z
LAST-MODIFIED:20241130T154607Z
UID:7941-1736677800-1736683200@www.stmaryschurchtickhill.com
SUMMARY:10.45 am - Sung Parish Eucharist - St Mary's
DESCRIPTION:
URL:https://www.stmaryschurchtickhill.com/event/10-45-am-sung-parish-eucharist-st-marys-5
LOCATION:St. Mary’s Church\, Tickhill\, St Mary's Church\, St Mary's Rd\, Tickhill\,\, Doncaster\, DN11 9LZ\, United Kingdom
END:VEVENT
BEGIN:VEVENT
DTSTART;TZID=Europe/London:20250112T180000
DTEND;TZID=Europe/London:20250112T190000
DTSTAMP:20260421T212326
CREATED:20241130T154908Z
LAST-MODIFIED:20250104T102422Z
UID:7950-1736704800-1736708400@www.stmaryschurchtickhill.com
SUMMARY:6.00 pm - Plough Sunday Service - St Mary's
DESCRIPTION:
URL:https://www.stmaryschurchtickhill.com/event/6-00-pm-evening-prayer-st-marys-5
LOCATION:St. Mary’s Church\, Tickhill\, St Mary's Church\, St Mary's Rd\, Tickhill\,\, Doncaster\, DN11 9LZ\, United Kingdom
END:VEVENT
BEGIN:VEVENT
DTSTART;TZID=Europe/London:20250115T100000
DTEND;TZID=Europe/London:20250115T110000
DTSTAMP:20260421T212326
CREATED:20241130T155336Z
LAST-MODIFIED:20241130T155336Z
UID:7962-1736935200-1736938800@www.stmaryschurchtickhill.com
SUMMARY:10.00 am - Holy Communion - St Mary's
DESCRIPTION:
URL:https://www.stmaryschurchtickhill.com/event/10-00-am-holy-communion-st-marys
LOCATION:St. Mary’s Church\, Tickhill\, St Mary's Church\, St Mary's Rd\, Tickhill\,\, Doncaster\, DN11 9LZ\, United Kingdom
END:VEVENT
BEGIN:VEVENT
DTSTART;TZID=Europe/London:20250119T103000
DTEND;TZID=Europe/London:20250119T120000
DTSTAMP:20260421T212326
CREATED:20241130T154633Z
LAST-MODIFIED:20250112T163405Z
UID:7943-1737282600-1737288000@www.stmaryschurchtickhill.com
SUMMARY:10.30 am - Tickhill Churches Together - Joint Service at Tickhill Methodist Church
DESCRIPTION:
URL:https://www.stmaryschurchtickhill.com/event/10-45-am-sung-parish-eucharist-st-marys-6
LOCATION:Tickhill Methodist Church\, 8 Buttercross Ct\, Tickhill\,\, Doncaster\, DN11 9JX
END:VEVENT
BEGIN:VEVENT
DTSTART;TZID=Europe/London:20250119T180000
DTEND;TZID=Europe/London:20250119T190000
DTSTAMP:20260421T212326
CREATED:20241130T154943Z
LAST-MODIFIED:20241130T154943Z
UID:7952-1737309600-1737313200@www.stmaryschurchtickhill.com
SUMMARY:6.00 pm - Holy Communion - St Mary's
DESCRIPTION:
URL:https://www.stmaryschurchtickhill.com/event/6-00-pm-holy-communion-st-marys-3
LOCATION:St. Mary’s Church\, Tickhill\, St Mary's Church\, St Mary's Rd\, Tickhill\,\, Doncaster\, DN11 9LZ\, United Kingdom
END:VEVENT
BEGIN:VEVENT
DTSTART;TZID=Europe/London:20250122T100000
DTEND;TZID=Europe/London:20250122T110000
DTSTAMP:20260421T212326
CREATED:20241130T155403Z
LAST-MODIFIED:20241130T155403Z
UID:7964-1737540000-1737543600@www.stmaryschurchtickhill.com
SUMMARY:10.00 am - Morning Prayer - St Mary's
DESCRIPTION:
URL:https://www.stmaryschurchtickhill.com/event/10-00-am-morning-prayer-st-marys-2
LOCATION:St. Mary’s Church\, Tickhill\, St Mary's Church\, St Mary's Rd\, Tickhill\,\, Doncaster\, DN11 9LZ\, United Kingdom
END:VEVENT
BEGIN:VEVENT
DTSTART;TZID=Europe/London:20250126T103000
DTEND;TZID=Europe/London:20250126T120000
DTSTAMP:20260421T212326
CREATED:20241130T154705Z
LAST-MODIFIED:20241130T154705Z
UID:7945-1737887400-1737892800@www.stmaryschurchtickhill.com
SUMMARY:10.45 am - Sung Parish Eucharist - St Mary's
DESCRIPTION:
URL:https://www.stmaryschurchtickhill.com/event/10-45-am-sung-parish-eucharist-st-marys-7
LOCATION:St. Mary’s Church\, Tickhill\, St Mary's Church\, St Mary's Rd\, Tickhill\,\, Doncaster\, DN11 9LZ\, United Kingdom
END:VEVENT
BEGIN:VEVENT
DTSTART;TZID=Europe/London:20250126T180000
DTEND;TZID=Europe/London:20250126T190000
DTSTAMP:20260421T212326
CREATED:20241130T155011Z
LAST-MODIFIED:20250117T121307Z
UID:7954-1737914400-1737918000@www.stmaryschurchtickhill.com
SUMMARY:6.00 pm - Evensong - St Mary's
DESCRIPTION:
URL:https://www.stmaryschurchtickhill.com/event/6-00-pm-evening-prayer-st-marys-6
LOCATION:St. Mary’s Church\, Tickhill\, St Mary's Church\, St Mary's Rd\, Tickhill\,\, Doncaster\, DN11 9LZ\, United Kingdom
END:VEVENT
BEGIN:VEVENT
DTSTART;TZID=Europe/London:20250129T100000
DTEND;TZID=Europe/London:20250129T110000
DTSTAMP:20260421T212326
CREATED:20241130T155443Z
LAST-MODIFIED:20241130T155443Z
UID:7966-1738144800-1738148400@www.stmaryschurchtickhill.com
SUMMARY:10.00 am - Holy Communion - St Mary's
DESCRIPTION:
URL:https://www.stmaryschurchtickhill.com/event/10-00-am-holy-communion-st-marys-2
LOCATION:St. Mary’s Church\, Tickhill\, St Mary's Church\, St Mary's Rd\, Tickhill\,\, Doncaster\, DN11 9LZ\, United Kingdom
END:VEVENT
END:VCALENDAR