BEGIN:VCALENDAR
VERSION:2.0
PRODID:-//St Mary&#039;s Church Tickhill - ECPv6.15.20//NONSGML v1.0//EN
CALSCALE:GREGORIAN
METHOD:PUBLISH
X-WR-CALNAME:St Mary&#039;s Church Tickhill
X-ORIGINAL-URL:https://www.stmaryschurchtickhill.com
X-WR-CALDESC:Events for St Mary&#039;s Church Tickhill
REFRESH-INTERVAL;VALUE=DURATION:PT1H
X-Robots-Tag:noindex
X-PUBLISHED-TTL:PT1H
BEGIN:VTIMEZONE
TZID:Europe/London
BEGIN:DAYLIGHT
TZOFFSETFROM:+0000
TZOFFSETTO:+0100
TZNAME:BST
DTSTART:20210328T010000
END:DAYLIGHT
BEGIN:STANDARD
TZOFFSETFROM:+0100
TZOFFSETTO:+0000
TZNAME:GMT
DTSTART:20211031T010000
END:STANDARD
BEGIN:DAYLIGHT
TZOFFSETFROM:+0000
TZOFFSETTO:+0100
TZNAME:BST
DTSTART:20220327T010000
END:DAYLIGHT
BEGIN:STANDARD
TZOFFSETFROM:+0100
TZOFFSETTO:+0000
TZNAME:GMT
DTSTART:20221030T010000
END:STANDARD
BEGIN:DAYLIGHT
TZOFFSETFROM:+0000
TZOFFSETTO:+0100
TZNAME:BST
DTSTART:20230326T010000
END:DAYLIGHT
BEGIN:STANDARD
TZOFFSETFROM:+0100
TZOFFSETTO:+0000
TZNAME:GMT
DTSTART:20231029T010000
END:STANDARD
END:VTIMEZONE
BEGIN:VEVENT
DTSTART;TZID=Europe/London:20221112T190000
DTEND;TZID=Europe/London:20221112T210000
DTSTAMP:20260420T100802
CREATED:20220721T112618Z
LAST-MODIFIED:20221101T191048Z
UID:4383-1668279600-1668286800@www.stmaryschurchtickhill.com
SUMMARY:An Evening With Gilbert and Sullivan - Parish Room- 6.58pm
DESCRIPTION:An Evening With Gilbert and Sullivan – Parish Rooms – 6.58pm\nIn aid of the ‘Warm and Welcoming Church’ appeal to raise funds for new hydrogen-ready boilers to heat the church.\nFor more details – click here
URL:https://www.stmaryschurchtickhill.com/event/an-evening-with-gilbert-and-sullivan-parish-rooms-7pm
CATEGORIES:WARM AND WELCOMING CHURCH
ATTACH;FMTTYPE=image/jpeg:https://www.stmaryschurchtickhill.com/wp-content/uploads/2022/11/GS-graphic.jpg
END:VEVENT
BEGIN:VEVENT
DTSTART;TZID=Europe/London:20221125T130000
DTEND;TZID=Europe/London:20221125T150000
DTSTAMP:20260420T100802
CREATED:20220717T150046Z
LAST-MODIFIED:20220721T114649Z
UID:4370-1669381200-1669388400@www.stmaryschurchtickhill.com
SUMMARY:SPONSORED SILENCE - 25 NOVEMBER 13.00-15.00 - Parish Rooms
DESCRIPTION:SPONSORED SILENCE – PARISH ROOMS – 1.00 pm – 3.00 pm\n\nAs we seek to raise funds to replace our gas boilers with hydrogen-powered ones\, as the first phase of making St Mary’s church a more warm and welcoming space both for our worship\, and for the use of the wider community in Tickhill\, please support this event if you can.
URL:https://www.stmaryschurchtickhill.com/event/sponsored-silence-25-november-10-00-4-00-parish-rooms
CATEGORIES:WARM AND WELCOMING CHURCH
ATTACH;FMTTYPE=image/jpeg:https://www.stmaryschurchtickhill.com/wp-content/uploads/2022/07/SILENCE.jpeg
END:VEVENT
END:VCALENDAR