BEGIN:VCALENDAR
VERSION:2.0
PRODID:-//St Mary&#039;s Church Tickhill - ECPv6.15.20//NONSGML v1.0//EN
CALSCALE:GREGORIAN
METHOD:PUBLISH
X-ORIGINAL-URL:https://www.stmaryschurchtickhill.com
X-WR-CALDESC:Events for St Mary&#039;s Church Tickhill
REFRESH-INTERVAL;VALUE=DURATION:PT1H
X-Robots-Tag:noindex
X-PUBLISHED-TTL:PT1H
BEGIN:VTIMEZONE
TZID:Europe/London
BEGIN:DAYLIGHT
TZOFFSETFROM:+0000
TZOFFSETTO:+0100
TZNAME:BST
DTSTART:20210328T010000
END:DAYLIGHT
BEGIN:STANDARD
TZOFFSETFROM:+0100
TZOFFSETTO:+0000
TZNAME:GMT
DTSTART:20211031T010000
END:STANDARD
BEGIN:DAYLIGHT
TZOFFSETFROM:+0000
TZOFFSETTO:+0100
TZNAME:BST
DTSTART:20220327T010000
END:DAYLIGHT
BEGIN:STANDARD
TZOFFSETFROM:+0100
TZOFFSETTO:+0000
TZNAME:GMT
DTSTART:20221030T010000
END:STANDARD
BEGIN:DAYLIGHT
TZOFFSETFROM:+0000
TZOFFSETTO:+0100
TZNAME:BST
DTSTART:20230326T010000
END:DAYLIGHT
BEGIN:STANDARD
TZOFFSETFROM:+0100
TZOFFSETTO:+0000
TZNAME:GMT
DTSTART:20231029T010000
END:STANDARD
END:VTIMEZONE
BEGIN:VEVENT
DTSTART;TZID=Europe/London:20220918T123000
DTEND;TZID=Europe/London:20220918T143000
DTSTAMP:20260422T130109
CREATED:20220717T133223Z
LAST-MODIFIED:20220717T143205Z
UID:4310-1663504200-1663511400@www.stmaryschurchtickhill.com
SUMMARY:Lunch at John Marsden's - 27 Sunderland St
DESCRIPTION:LUNCH AT JOHN MARSDEN’S – 27 SUNDERLAND ST\n\nAs we seek to raise funds to replace our gas boilers with hydrogen-powered ones\, as the first phase of making St Mary’s church a more warm and welcoming space both for our worship\, and for the use of the wider community in Tickhill\, please support this event if you can.\nBook in with John Marsden on 01302 744142.   Places are limited to 12 people and the cost is £15.00 per head.  If you would like to help serve on the day\, please use the words ‘Free Lunch’ to John.
URL:https://www.stmaryschurchtickhill.com/event/lunch-at-john-marsdens-27-sunderland-st-3
CATEGORIES:WARM AND WELCOMING CHURCH
ATTACH;FMTTYPE=image/jpeg:https://www.stmaryschurchtickhill.com/wp-content/uploads/2022/07/Sunday-lunch.jpeg
END:VEVENT
END:VCALENDAR