BEGIN:VCALENDAR
VERSION:2.0
PRODID:-//St Mary&#039;s Church Tickhill - ECPv6.15.20//NONSGML v1.0//EN
CALSCALE:GREGORIAN
METHOD:PUBLISH
X-ORIGINAL-URL:https://www.stmaryschurchtickhill.com
X-WR-CALDESC:Events for St Mary&#039;s Church Tickhill
REFRESH-INTERVAL;VALUE=DURATION:PT1H
X-Robots-Tag:noindex
X-PUBLISHED-TTL:PT1H
BEGIN:VTIMEZONE
TZID:Europe/London
BEGIN:DAYLIGHT
TZOFFSETFROM:+0000
TZOFFSETTO:+0100
TZNAME:BST
DTSTART:20210328T010000
END:DAYLIGHT
BEGIN:STANDARD
TZOFFSETFROM:+0100
TZOFFSETTO:+0000
TZNAME:GMT
DTSTART:20211031T010000
END:STANDARD
BEGIN:DAYLIGHT
TZOFFSETFROM:+0000
TZOFFSETTO:+0100
TZNAME:BST
DTSTART:20220327T010000
END:DAYLIGHT
BEGIN:STANDARD
TZOFFSETFROM:+0100
TZOFFSETTO:+0000
TZNAME:GMT
DTSTART:20221030T010000
END:STANDARD
BEGIN:DAYLIGHT
TZOFFSETFROM:+0000
TZOFFSETTO:+0100
TZNAME:BST
DTSTART:20230326T010000
END:DAYLIGHT
BEGIN:STANDARD
TZOFFSETFROM:+0100
TZOFFSETTO:+0000
TZNAME:GMT
DTSTART:20231029T010000
END:STANDARD
END:VTIMEZONE
BEGIN:VEVENT
DTSTART;TZID=Europe/London:20220803T080000
DTEND;TZID=Europe/London:20220803T170000
DTSTAMP:20260422T144616
CREATED:20220717T140447Z
LAST-MODIFIED:20220717T140447Z
UID:4337-1659513600-1659546000@www.stmaryschurchtickhill.com
SUMMARY:10.00am Holy Communion - St Helen's Chapel
DESCRIPTION:
URL:https://www.stmaryschurchtickhill.com/event/10-00am-holy-communion-st-helens-chapel-3
END:VEVENT
BEGIN:VEVENT
DTSTART;TZID=Europe/London:20220807T103000
DTEND;TZID=Europe/London:20220807T113000
DTSTAMP:20260422T144616
CREATED:20220717T133733Z
LAST-MODIFIED:20220717T133733Z
UID:4317-1659868200-1659871800@www.stmaryschurchtickhill.com
SUMMARY:10.30 am - Holy Communion
DESCRIPTION:
URL:https://www.stmaryschurchtickhill.com/event/10-30-am-holy-communion-3
END:VEVENT
BEGIN:VEVENT
DTSTART;TZID=Europe/London:20220810T100000
DTEND;TZID=Europe/London:20220810T103000
DTSTAMP:20260422T144616
CREATED:20220717T140608Z
LAST-MODIFIED:20220717T140608Z
UID:4339-1660125600-1660127400@www.stmaryschurchtickhill.com
SUMMARY:10.00am Holy Communion - St Helen's Chapel
DESCRIPTION:
URL:https://www.stmaryschurchtickhill.com/event/10-00am-holy-communion-st-helens-chapel-4
END:VEVENT
BEGIN:VEVENT
DTSTART;TZID=Europe/London:20220814T103000
DTEND;TZID=Europe/London:20220814T113000
DTSTAMP:20260422T144616
CREATED:20220717T133850Z
LAST-MODIFIED:20220717T134356Z
UID:4319-1660473000-1660476600@www.stmaryschurchtickhill.com
SUMMARY:10.30 am - Holy Communion
DESCRIPTION:
URL:https://www.stmaryschurchtickhill.com/event/10-30-am-holy-communion-4
END:VEVENT
BEGIN:VEVENT
DTSTART;TZID=Europe/London:20220817T100000
DTEND;TZID=Europe/London:20220817T103000
DTSTAMP:20260422T144616
CREATED:20220717T140721Z
LAST-MODIFIED:20220717T140752Z
UID:4342-1660730400-1660732200@www.stmaryschurchtickhill.com
SUMMARY:10.00am Holy Communion - St Helen's Chapel
DESCRIPTION:
URL:https://www.stmaryschurchtickhill.com/event/10-00am-holy-communion-st-helens-chapel-5
END:VEVENT
BEGIN:VEVENT
DTSTART;TZID=Europe/London:20220821T103000
DTEND;TZID=Europe/London:20220821T113000
DTSTAMP:20260422T144616
CREATED:20220717T134005Z
LAST-MODIFIED:20220717T134051Z
UID:4321-1661077800-1661081400@www.stmaryschurchtickhill.com
SUMMARY:10.30 am - Holy Communion
DESCRIPTION:
URL:https://www.stmaryschurchtickhill.com/event/10-30-am-holy-communion-5
END:VEVENT
BEGIN:VEVENT
DTSTART;TZID=Europe/London:20220824T100000
DTEND;TZID=Europe/London:20220824T103000
DTSTAMP:20260422T144616
CREATED:20220717T141310Z
LAST-MODIFIED:20220717T141310Z
UID:4345-1661335200-1661337000@www.stmaryschurchtickhill.com
SUMMARY:10.00am Holy Communion - St Helen's Chapel
DESCRIPTION:
URL:https://www.stmaryschurchtickhill.com/event/10-00am-holy-communion-st-helens-chapel-6
END:VEVENT
BEGIN:VEVENT
DTSTART;TZID=Europe/London:20220828T103000
DTEND;TZID=Europe/London:20220828T113000
DTSTAMP:20260422T144616
CREATED:20220717T134209Z
LAST-MODIFIED:20220717T134209Z
UID:4323-1661682600-1661686200@www.stmaryschurchtickhill.com
SUMMARY:10.30 am - Holy Communion
DESCRIPTION:
URL:https://www.stmaryschurchtickhill.com/event/10-30-am-holy-communion-6
END:VEVENT
BEGIN:VEVENT
DTSTART;TZID=Europe/London:20220831T100000
DTEND;TZID=Europe/London:20220831T223000
DTSTAMP:20260422T144616
CREATED:20220717T141419Z
LAST-MODIFIED:20220717T141419Z
UID:4348-1661940000-1661985000@www.stmaryschurchtickhill.com
SUMMARY:10.00am Holy Communion - St Helen's Chapel
DESCRIPTION:
URL:https://www.stmaryschurchtickhill.com/event/10-00am-holy-communion-st-helens-chapel-7
END:VEVENT
END:VCALENDAR